BEGIN:VCALENDAR
VERSION:2.0
PRODID:-//ChamberMaster//Event Calendar 2.0//EN
METHOD:PUBLISH
X-PUBLISHED-TTL:P3D
REFRESH-INTERVAL:P3D
CALSCALE:GREGORIAN
BEGIN:VEVENT
DTSTART:20130628T153000Z
DTEND:20130628T160000Z
X-MICROSOFT-CDO-ALLDAYEVENT:FALSE
SUMMARY:Quad City Symphony Orchestra Ribbon Cutting
DESCRIPTION:Please join the Quad City Symphony Orchestra in the re-naming of their building on Friday\, June 28th at 10:30am – Located at 327 Brady Street\, Davenport (corner of 4th and Brady).  There will be an open house immediately following the ceremony in the Gold Room of Hotel Blackhawk. For more information about the Quad City Symphony Orchestra\, please www.qcsymphony.com.
X-ALT-DESC;FMTTYPE=text/html:<P style="MARGIN: 0in 0in 0pt" class=MsoNormal><FONT face=Calibri>Please join the Quad City Symphony Orchestra in the re-naming of their building <B style="mso-bidi-font-weight: normal">on Friday\, June 28<SUP>th</SUP> at 10:30am</B> – Located at 327 Brady Street\, Davenport (corner of 4<SUP>th</SUP> and Brady).<SPAN style="mso-spacerun: yes">&nbsp\; </SPAN>There will be an open house immediately following the ceremony in the Gold Room of Hotel Blackhawk.<?xml:namespace prefix = o ns = "urn:schemas-microsoft-com:office:office" /><o:p></o:p></FONT></P><P style="MARGIN: 0in 0in 0pt" class=MsoNormal><o:p><FONT face=Calibri>&nbsp\;</FONT></o:p></P><P style="MARGIN: 0in 0in 0pt" class=MsoNormal><FONT face=Calibri>For more information about the Quad City Symphony Orchestra\, please </FONT><A href="http://www.qcsymphony.com"><FONT face=Calibri>www.qcsymphony.com</FONT></A><FONT face=Calibri>.<o:p></o:p></FONT></P><DIV style="FONT-FAMILY: Arial">&nbsp\;</DIV>
LOCATION:Quad City Symphony Orchestra Association327 Brady Street Davenport\, IA 52801
UID:e.2843.610
SEQUENCE:3
DTSTAMP:20260421T134801Z
URL:https://member.quadcitieschamber.com/events/details/quad-city-symphony-orchestra-ribbon-cutting-06-28-2013-610
END:VEVENT

END:VCALENDAR
