BEGIN:VCALENDAR
VERSION:2.0
PRODID:-//ChamberMaster//Event Calendar 2.0//EN
METHOD:PUBLISH
X-PUBLISHED-TTL:P3D
REFRESH-INTERVAL:P3D
CALSCALE:GREGORIAN
BEGIN:VEVENT
DTSTART:20130701T160000Z
DTEND:20130701T163000Z
X-MICROSOFT-CDO-ALLDAYEVENT:FALSE
SUMMARY:Radon Solutions LLC Ribbon Cutting
DESCRIPTION:Please help celebrate the new location for Radon Solutions LLC on Monday\, July 1st at 11:00am – Located at 2235 Grant Street\, Bettendorf. Radon Solutions is a professional business which is dedicated to the highest standard of excellence and ethical performance of radon measurement\, mitigation and the transfer of information to its customers and the general public. For more information\, please visit www.radonsolutionsllc.com.
X-ALT-DESC;FMTTYPE=text/html:<DIV style="FONT-FAMILY: Arial"><P style="MARGIN: 0in 0in 0pt" class=MsoNormal><SPAN style="mso-ascii-font-family: Calibri\; mso-hansi-font-family: Calibri"><FONT face=Calibri>Please help celebrate the new location for Radon Solutions LLC on <B style="mso-bidi-font-weight: normal">Monday\, July 1<SUP>st</SUP> at 11:00am</B> – Located at 2235 Grant Street\, Bettendorf.<?xml:namespace prefix = o ns = "urn:schemas-microsoft-com:office:office" /><o:p></o:p></FONT></SPAN></P><P style="MARGIN: 0in 0in 0pt" class=MsoNormal><SPAN style="mso-ascii-font-family: Calibri\; mso-hansi-font-family: Calibri"><o:p><FONT face=Calibri>&nbsp\;</FONT></o:p></SPAN></P><P style="MARGIN: 0in 0in 0pt" class=MsoNormal><SPAN style="mso-bidi-font-weight: bold\; mso-bidi-font-family: Arial"><FONT face=Calibri>Radon Solutions is a professional business which is dedicated to the highest standard of excellence and ethical performance of radon measurement\, mitigation and the transfer of information to its customers and the general public.<o:p></o:p></FONT></SPAN></P><P style="MARGIN: 0in 0in 0pt" class=MsoNormal><SPAN style="mso-bidi-font-weight: bold\; mso-bidi-font-family: Arial"><o:p><FONT face=Calibri>&nbsp\;</FONT></o:p></SPAN></P><P style="MARGIN: 0in 0in 0pt" class=MsoNormal><SPAN style="mso-bidi-font-weight: bold\; mso-bidi-font-family: Arial"><FONT face=Calibri>For more information\, please visit </FONT><A href="http://www.radonsolutionsllc.com"><FONT face=Calibri>www.radonsolutionsllc.com</FONT></A><FONT face=Calibri>.<o:p></o:p></FONT></SPAN></P></DIV>
LOCATION:Radon Solutions LLC2235 Grant Street Bettendorf\, IA 52722
UID:e.2843.561
SEQUENCE:3
DTSTAMP:20260421T152134Z
URL:https://member.quadcitieschamber.com/events/details/radon-solutions-llc-ribbon-cutting-07-01-2013-561
END:VEVENT

END:VCALENDAR
