BEGIN:VCALENDAR
VERSION:2.0
PRODID:-//ChamberMaster//Event Calendar 2.0//EN
METHOD:PUBLISH
X-PUBLISHED-TTL:P3D
REFRESH-INTERVAL:P3D
CALSCALE:GREGORIAN
BEGIN:VEVENT
DTSTART:20200724T220000Z
DTEND:20200725T030000Z
X-MICROSOFT-CDO-ALLDAYEVENT:FALSE
SUMMARY:Raffle for a Cause: Greg Maddux autographed baseball and pizza for a year from Pizza Shack
DESCRIPTION:This is a FUN way to celebrate opening day of Major League Baseball (MLB). We will be celebrating at Rookies Sports bar and Grill in Davenport starting at 5 p.m. The Chicago Cubs play at 6:10 p.m. and the St. Louis Cardinals start at 7:15\, we will be selling raffle tickets ($1-1 ticket\, $5 - 6 tickets) for a chance to win an autographed Greg Maddux ball or pizza for a year from Pizza Shack. Proceeds will benefit the Ridgecrest Foundation\, a 501(c)3 nonprofit organization and a Pizza Shack charity of choice. Everyone is welcome and the drawing will be held during the 7th inning. Food and drink specials provided by Rookies Sports Bar and Grill. Any questions or want to participate online\, contact Carrie Dreifurst at (239) 839-5024.
X-ALT-DESC;FMTTYPE=text/html:This is a FUN way to celebrate opening day of Major League Baseball (MLB). We will be celebrating at Rookies Sports bar and Grill in Davenport starting at 5 p.m. The Chicago Cubs play at 6:10 p.m. and the St. Louis Cardinals start at 7:15\, we will be selling raffle tickets ($1-1 ticket\, $5 - 6 tickets) for a chance to win an autographed Greg Maddux ball or pizza for a year from Pizza Shack. Proceeds will benefit the Ridgecrest Foundation\, a 501(c)3 nonprofit organization and a Pizza Shack charity of choice. Everyone is welcome and the drawing will be held during the 7th inning. Food and drink specials provided by Rookies Sports Bar and Grill. Any questions or want to participate online\, contact Carrie Dreifurst at (239) 839-5024.
LOCATION:Rookies Sports Bar and Grill
UID:e.2843.17895
SEQUENCE:3
DTSTAMP:20260421T155007Z
URL:https://member.quadcitieschamber.com/events/details/raffle-for-a-cause-greg-maddux-autographed-baseball-and-pizza-for-a-year-from-pizza-shack-17895
END:VEVENT

END:VCALENDAR
