BEGIN:VCALENDAR
VERSION:2.0
PRODID:-//ChamberMaster//Event Calendar 2.0//EN
METHOD:PUBLISH
X-PUBLISHED-TTL:P3D
REFRESH-INTERVAL:P3D
CALSCALE:GREGORIAN
BEGIN:VEVENT
DTSTART:20120511T160000Z
DTEND:20120511T163000Z
X-MICROSOFT-CDO-ALLDAYEVENT:FALSE
SUMMARY:Rainbow International 20th Anniversary Open House & Ribbon Cutting
DESCRIPTION:Please help Rainbow International celebrate their 20th Anniversary at their new facility (21110 Holden Drive) on Friday\, May 11th at 11am. Rainbow International of the QC is locally owned and has been in business in the Quad Cities for 20 years.  Services include restoring residential and commercial properties damaged by water\, fire\, wind and smoke.  An extension of services includes residential and commercial carpet cleaning.  Certified technicians are available 24 hours a day for any size loss.   Rainbow Restoration and Cleaning of the Quad Cities has been named as the Rainbow International January 2012 Franchise of the Month!  We are excited and honored to be selected out of 300+ franchises in the United States and Canada.  Rainbow Restoration and Cleaning provides water\, mold\, fire\, smoke\, and wind repair and restoration\, as well as carpet cleaning services for homes and businesses.  Project managers and technicians are on call 24/7.  Like us on Facebook: www.facebook.com/rainbowintlqc  Follow us on Twitter: @rainbowintlqc.
X-ALT-DESC;FMTTYPE=text/html:<DIV style="FONT-FAMILY: Arial"><P style="MARGIN: 0in 0in 0pt" class=MsoNormal><SPAN style="FONT-FAMILY: 'Trebuchet MS'\,'sans-serif'\; FONT-SIZE: 9pt">Please help Rainbow International celebrate their 20<SUP>th</SUP> Anniversary at their new facility (21110 Holden Drive) on Friday\, May 11<SUP>th</SUP> at 11am.<?xml:namespace prefix = o ns = "urn:schemas-microsoft-com:office:office" /><o:p></o:p></SPAN></P><P style="MARGIN: 0in 0in 0pt" class=MsoNormal><SPAN style="FONT-FAMILY: 'Trebuchet MS'\,'sans-serif'\; FONT-SIZE: 9pt"><o:p>&nbsp\;</o:p></SPAN></P><P style="MARGIN: 0in 0in 0pt" class=MsoNormal><SPAN style="FONT-FAMILY: 'Trebuchet MS'\,'sans-serif'\; FONT-SIZE: 9pt">Rainbow International of the QC is locally owned and has been in business in the Quad Cities for 20 years.<SPAN style="mso-spacerun: yes">&nbsp\; </SPAN>Services include restoring residential and commercial properties damaged by water\, fire\, wind and smoke.<SPAN style="mso-spacerun: yes">&nbsp\; </SPAN>An extension of services includes residential and commercial carpet cleaning.<SPAN style="mso-spacerun: yes">&nbsp\; </SPAN>Certified technicians are available 24 hours a day for any size loss.<SPAN style="mso-spacerun: yes">&nbsp\; </SPAN><o:p></o:p></SPAN></P><P style="MARGIN: 0in 0in 0pt" class=MsoNormal><SPAN style="FONT-FAMILY: 'Trebuchet MS'\,'sans-serif'\; FONT-SIZE: 9pt"><o:p>&nbsp\;</o:p></SPAN></P><P style="MARGIN: 0in 0in 0pt" class=MsoNormal><SPAN style="FONT-FAMILY: 'Trebuchet MS'\,'sans-serif'\; FONT-SIZE: 9pt">Rainbow Restoration and Cleaning of the Quad Cities has been named as the Rainbow International January 2012 Franchise of the Month!&nbsp\; We are excited and honored to be selected out of 300+ franchises in the United States and Canada.&nbsp\; Rainbow Restoration and Cleaning provides water\, mold\, fire\, smoke\, and wind repair and restoration\, as well as carpet cleaning services for homes and businesses.&nbsp\; Project managers and technicians are on call 24/7.&nbsp\; Like us on Facebook: <A href="http://www.facebook.com/rainbowintlqc">www.facebook.com/rainbowintlqc</A> &nbsp\;Follow us on Twitter: @rainbowintlqc.<o:p></o:p></SPAN></P></DIV>
LOCATION:Rainbow International Restoration & Cleaning21110 Holden Drive Davenport\, IA 52806
UID:e.2843.367
SEQUENCE:3
DTSTAMP:20260422T013332Z
URL:https://member.quadcitieschamber.com/events/details/rainbow-international-20th-anniversary-open-house-ribbon-cutting-05-11-2012-367
END:VEVENT

END:VCALENDAR
