BEGIN:VCALENDAR
VERSION:2.0
PRODID:-//ChamberMaster//Event Calendar 2.0//EN
METHOD:PUBLISH
X-PUBLISHED-TTL:P3D
REFRESH-INTERVAL:P3D
CALSCALE:GREGORIAN
BEGIN:VEVENT
DTSTART:20120127T170000Z
DTEND:20120127T173000Z
X-MICROSOFT-CDO-ALLDAYEVENT:FALSE
SUMMARY:Rainbow Restoration and Cleaning of the QC Ribbon Cutting
DESCRIPTION:Please help us celebrate the second location for Rainbow International of the QC.  The ribbon cutting will take place on Friday\, January 27th at 11am at 3817 – 16th Street in Moline (near the corner of John Deere Rd and 16th Street – across from Mills Chevrolet). Rainbow International of the QC is locally owned and has been in business in the Quad Cities for 19 years.  Services include restoring residential and commercial properties damaged by water\, fire\, wind and smoke.  An extension of services includes residential and commercial carpet cleaning.  Certified technicians are available 24 hours a day for any size loss.  The main office is located at 21110 Holden Drive\, Davenport.
X-ALT-DESC;FMTTYPE=text/html:<DIV><FONT face=Calibri><P style="MARGIN: 0in 0in 0pt" class=MsoNormal>Please help us celebrate the second location for Rainbow International of the QC.<SPAN style="mso-spacerun: yes">&nbsp\; </SPAN>The ribbon cutting will take place on Friday\, January 27<SUP>th</SUP> at 11am at 3817 – 16<SUP>th</SUP> Street in Moline (near the corner of John Deere Rd and 16<SUP>th</SUP> Street – across from Mills Chevrolet).</P><P style="MARGIN: 0in 0in 0pt" class=MsoNormal><?xml:namespace prefix = o ns = "urn:schemas-microsoft-com:office:office" /><o:p>&nbsp\;</o:p></P><P style="MARGIN: 0in 0in 0pt" class=MsoNormal>Rainbow International of the QC is locally owned and has been in business in the Quad Cities for 19 years.<SPAN style="mso-spacerun: yes">&nbsp\; </SPAN>Services include restoring residential and commercial properties damaged by water\, fire\, wind and smoke.<SPAN style="mso-spacerun: yes">&nbsp\; </SPAN>An extension of services includes residential and commercial carpet cleaning.<SPAN style="mso-spacerun: yes">&nbsp\; </SPAN>Certified technicians are available 24 hours a day for any size loss.<SPAN style="mso-spacerun: yes">&nbsp\; </SPAN>The main office is located at 21110 Holden Drive\, Davenport.</P><P style="MARGIN: 0in 0in 0pt" class=MsoNormal>&nbsp\;</P><P style="MARGIN: 0in 0in 0pt" class=MsoNormal>&nbsp\;</P></FONT></DIV>
LOCATION:Rainbow International Restoration & Cleaning3817 16th Street Moline\, IL 61265
UID:e.2843.330
SEQUENCE:3
DTSTAMP:20260422T093724Z
URL:https://member.quadcitieschamber.com/events/details/rainbow-restoration-and-cleaning-of-the-qc-ribbon-cutting-01-27-2012-330
END:VEVENT

END:VCALENDAR
