BEGIN:VCALENDAR
VERSION:2.0
PRODID:-//ChamberMaster//Event Calendar 2.0//EN
METHOD:PUBLISH
X-PUBLISHED-TTL:P3D
REFRESH-INTERVAL:P3D
CALSCALE:GREGORIAN
BEGIN:VEVENT
DTSTART:20171206T173000Z
DTEND:20171206T190000Z
X-MICROSOFT-CDO-ALLDAYEVENT:FALSE
SUMMARY:Rallying Around Mental Health
DESCRIPTION:A Rally Cry for Mental Health in the Quad Cities\n\n\n\nLinda Henderson-Smith\, PhD\, LPC\, Director of Children and Trauma Informed Care at the National Council for Behavioral Health\, has over 16 years of clinical and administrative experience in community-based mental health. Her previous experience includes working at the Georgetown University National Technical Assistance Center for Children's Mental Health as the Director of Mental Health Planning and Policy\, and at the Georgia Department of Behavioral Health and Developmental Disabilities as the Director of the Office of Children\, Young Adults and Families. As a trauma survivor herself\, Linda brings a distinct perspective and knowledge base to mental health and addiction disorders services.
X-ALT-DESC;FMTTYPE=text/html:A Rally Cry for Mental Health in the Quad Cities<br />\n<br />\nLinda Henderson-Smith\, PhD\, LPC\, Director of Children and Trauma Informed Care at the National Council for Behavioral Health\, has over 16 years of clinical and administrative experience in community-based mental health. Her previous experience includes working at the Georgetown University National Technical Assistance Center for Children&rsquo\;s Mental Health as the Director of Mental Health Planning and Policy\, and at the Georgia Department of Behavioral Health and Developmental Disabilities as the Director of the Office of Children\, Young Adults and Families. As a trauma survivor herself\, Linda brings a distinct perspective and knowledge base to mental health and addiction disorders services.
LOCATION:Jumer's Casino & Hotel 777 Jumer Drive Rock Island IL 61201
UID:e.2843.8837
SEQUENCE:3
DTSTAMP:20260423T181442Z
URL:https://member.quadcitieschamber.com/events/details/rallying-around-mental-health-8837
END:VEVENT

END:VCALENDAR
