BEGIN:VCALENDAR
VERSION:2.0
PRODID:-//ChamberMaster//Event Calendar 2.0//EN
METHOD:PUBLISH
X-PUBLISHED-TTL:P3D
REFRESH-INTERVAL:P3D
CALSCALE:GREGORIAN
BEGIN:VEVENT
DTSTART:20131109T163000Z
DTEND:20131109T200000Z
X-MICROSOFT-CDO-ALLDAYEVENT:FALSE
SUMMARY:Random Acts of Tailgating with the Davenport Jaycees
DESCRIPTION:A 'random act of tailgating' is taking place on Saturday\, November 9\, for the Iowa vs. Purdue football game. Join The Network and the Davenport Jaycees for a special event including tailgating\, games\, fun and tons of young professionals and friends. Enjoy the game indoors or outdoors on 60" flat screens\, savor delicious grilled food and ice cold beverages with over 50 of the best YPs in the Quad Cities! Don't miss out on the fun. Game starts at 11:00 a.m.\, so head over to Jaycee Hall any time after 10:30 a.m.!
X-ALT-DESC;FMTTYPE=text/html:<DIV><P style="MARGIN: 0in 0in 0pt"><SPAN style="FONT-FAMILY: 'Calibri'\,'sans-serif'\; COLOR: #555555\; FONT-SIZE: 11pt\; mso-bidi-font-family: Arial">A '</SPAN><SPAN style="FONT-FAMILY: 'Calibri'\,'sans-serif'\; COLOR: #555555\; FONT-SIZE: 11pt\; mso-bidi-font-family: Arial">random act of tailgating' is taking place on Saturday\, November 9\, for the Iowa vs. Purdue football game. Join The Network and the Davenport Jaycees for a special event including tailgating\, games\, fun and tons of young professionals and friends. Enjoy the game indoors or outdoors on 60" flat screens\, savor delicious grilled food and ice cold beverages with over 50 of the best YPs in the Quad Cities!</SPAN></P><P style="MARGIN: 0in 0in 0pt"><SPAN style="FONT-FAMILY: 'Calibri'\,'sans-serif'\; COLOR: #555555\; FONT-SIZE: 11pt\; mso-bidi-font-family: Arial"></SPAN>&nbsp\;</P><P style="MARGIN: 0in 0in 0pt"><SPAN style="FONT-FAMILY: 'Calibri'\,'sans-serif'\; COLOR: #555555\; FONT-SIZE: 11pt\; mso-bidi-font-family: Arial">Don't miss out on the fun.</SPAN></P><P style="MARGIN: 0in 0in 0pt"><SPAN style="FONT-FAMILY: 'Calibri'\,'sans-serif'\; COLOR: #555555\; FONT-SIZE: 11pt\; mso-bidi-font-family: Arial"></SPAN>&nbsp\;</P><P style="MARGIN: 0in 0in 0pt"><SPAN style="FONT-FAMILY: 'Calibri'\,'sans-serif'\; COLOR: #555555\; FONT-SIZE: 11pt\; mso-bidi-font-family: Arial">Game starts at 11:00 a.m.\, so head over to Jaycee Hall any time after 10:30 a.m.!</SPAN></P><P style="MARGIN: 0in 0in 0pt"><SPAN style="FONT-FAMILY: 'Calibri'\,'sans-serif'\; COLOR: #555555\; FONT-SIZE: 11pt\; mso-bidi-font-family: Arial"></SPAN>&nbsp\;</P></DIV>
LOCATION:Davenport Jaycees2940 Brady St. Davenport\, IA 52808
UID:e.2843.730
SEQUENCE:3
DTSTAMP:20260421T220901Z
URL:https://member.quadcitieschamber.com/events/details/random-acts-of-tailgating-with-the-davenport-jaycees-11-09-2013-730
END:VEVENT

END:VCALENDAR
