BEGIN:VCALENDAR
VERSION:2.0
PRODID:-//ChamberMaster//Event Calendar 2.0//EN
METHOD:PUBLISH
X-PUBLISHED-TTL:P3D
REFRESH-INTERVAL:P3D
CALSCALE:GREGORIAN
BEGIN:VEVENT
DTSTART:20181206T190000Z
DTEND:20181206T220000Z
X-MICROSOFT-CDO-ALLDAYEVENT:FALSE
SUMMARY:RCRA Awareness Training #1197
DESCRIPTION:This RCRA compliance course is designed for large and small quantity generators and may satisfy both initial and annual refresher training requirements as specified in 40 CFR 265.16. The Resource Conservation and Recovery Act (RCRA) requires that facility personnel be trained to "perform their duties in a way that ensures the facility's compliance" with hazardous waste regulations. This course includes a regulatory overview\, how to identify RCRA solid wastes\, managing hazardous waste containers\, waste storage requirements\, manifest preparation and recordkeeping\, and worker protection. Call 563.441.4100 to register.
X-ALT-DESC;FMTTYPE=text/html:This RCRA compliance course is designed for large and small quantity generators and may satisfy both initial and annual refresher training requirements as specified in 40 CFR 265.16. The Resource Conservation and Recovery Act (RCRA) requires that facility personnel be trained to &quot\;perform their duties in a way that ensures the facility&#39\;s compliance&quot\; with hazardous waste regulations. This course includes a regulatory overview\, how to identify RCRA solid wastes\, managing hazardous waste containers\, waste storage requirements\, manifest preparation and recordkeeping\, and worker protection. Call 563.441.4100 to register.
LOCATION:Midwest Center for Public Safety Training\, 8200 N. Fairmount\, Davenport\, IA 52806
UID:e.2843.13562
SEQUENCE:3
DTSTAMP:20260422T233942Z
URL:https://member.quadcitieschamber.com/events/details/rcra-awareness-training-1197-13562
END:VEVENT

END:VCALENDAR
