BEGIN:VCALENDAR
VERSION:2.0
PRODID:-//ChamberMaster//Event Calendar 2.0//EN
METHOD:PUBLISH
X-PUBLISHED-TTL:P3D
REFRESH-INTERVAL:P3D
CALSCALE:GREGORIAN
BEGIN:VEVENT
DTSTART:20120101T060000Z
DTEND:20120101T060000Z
X-MICROSOFT-CDO-ALLDAYEVENT:FALSE
SUMMARY:Ready2Serve 2012
DESCRIPTION:Ready2Serve 2012
X-ALT-DESC;FMTTYPE=text/html:Ready2Serve 2012
LOCATION:TBD
UID:e.2843.4459
SEQUENCE:3
DTSTAMP:20260421T201112Z
URL:https://member.quadcitieschamber.com/events/details/ready2serve-2012-01-01-2012-4459
END:VEVENT

END:VCALENDAR
