BEGIN:VCALENDAR
VERSION:2.0
PRODID:-//ChamberMaster//Event Calendar 2.0//EN
METHOD:PUBLISH
X-PUBLISHED-TTL:P3D
REFRESH-INTERVAL:P3D
CALSCALE:GREGORIAN
BEGIN:VEVENT
DTSTART:20120409T050000Z
DTEND:20120409T050000Z
X-MICROSOFT-CDO-ALLDAYEVENT:FALSE
SUMMARY:Ready2Serve: Ginny Wilson Peters
DESCRIPTION:Ready2Serve: Ginny Wilson Peters
X-ALT-DESC;FMTTYPE=text/html:Ready2Serve: Ginny Wilson Peters
LOCATION:Northwest Bank & Trust Company
UID:e.2843.1512
SEQUENCE:3
DTSTAMP:20260422T031529Z
URL:https://member.quadcitieschamber.com/events/details/ready2serve-ginny-wilson-peters-04-09-2012-1512
END:VEVENT

END:VCALENDAR
