BEGIN:VCALENDAR
VERSION:2.0
PRODID:-//ChamberMaster//Event Calendar 2.0//EN
METHOD:PUBLISH
X-PUBLISHED-TTL:P3D
REFRESH-INTERVAL:P3D
CALSCALE:GREGORIAN
BEGIN:VEVENT
DTSTART:20130308T060000Z
DTEND:20130308T060000Z
X-MICROSOFT-CDO-ALLDAYEVENT:FALSE
SUMMARY:Reception Honoring RADM (ret.) Sam Kupresin and Dr. Michael Ayers
DESCRIPTION:Reception Honoring RADM (ret.) Sam Kupresin and Dr. Michael Ayers
X-ALT-DESC;FMTTYPE=text/html:Reception Honoring RADM (ret.) Sam Kupresin and Dr. Michael Ayers
LOCATION:Arsenal Island Golf Course and Clubhouse
UID:e.2843.1757
SEQUENCE:3
DTSTAMP:20260421T103917Z
URL:https://member.quadcitieschamber.com/events/details/reception-honoring-radm-ret-sam-kupresin-and-dr-michael-ayers-03-08-2013-1757
END:VEVENT

END:VCALENDAR
