BEGIN:VCALENDAR
VERSION:2.0
PRODID:-//ChamberMaster//Event Calendar 2.0//EN
METHOD:PUBLISH
X-PUBLISHED-TTL:P3D
REFRESH-INTERVAL:P3D
CALSCALE:GREGORIAN
BEGIN:VEVENT
DTSTART:20210409T130000Z
DTEND:20210409T180000Z
X-MICROSOFT-CDO-ALLDAYEVENT:FALSE
SUMMARY:Red Cross Blood Drive
DESCRIPTION:Come donate life-saving blood products at the Moline Red Cross Chapter Blood Drive.
X-ALT-DESC;FMTTYPE=text/html:Come donate life-saving blood products at the Moline Red Cross Chapter Blood Drive.
LOCATION:Moline Red Cross Chapter Building- 1100 River Dr.
UID:e.2843.18796
SEQUENCE:3
DTSTAMP:20260421T015104Z
URL:https://member.quadcitieschamber.com/events/details/red-cross-blood-drive-18796
END:VEVENT

END:VCALENDAR
