BEGIN:VCALENDAR
VERSION:2.0
PRODID:-//ChamberMaster//Event Calendar 2.0//EN
METHOD:PUBLISH
X-PUBLISHED-TTL:P3D
REFRESH-INTERVAL:P3D
CALSCALE:GREGORIAN
BEGIN:VEVENT
DTSTART:20141205T133000Z
DTEND:20141205T160000Z
X-MICROSOFT-CDO-ALLDAYEVENT:FALSE
SUMMARY:Regional Vision Summit
DESCRIPTION:The Regional Vision Summit - a gathering of colleagues from the ROC\, business\, labor\, education\, human services\, arts & culture\, and local government -  is set for Friday\, December 5\, 7:30-10:00 a.m. at the iWireless Center.   We have confirmed that Oklahoma City Mayor Mick Cornett and Chamber CEO Roy Williams will be our keynote speakers that morning to share how Oklahoma City residents and public officials - over three consecutive administrations - came together to formulate\, fund and implement an aggressive plan to revitalize their region... and how their efforts have paid off for residents and companies alike.  You will not want to miss their presentation as it has many lessons for the Quad Cities about business leaders holding public office\; community leaders setting a course for the region rather than leaving it to others or to chance\;  taking risks and thinking boldly about what the region can be... and building consensus around key areas that make a vision a reality.
X-ALT-DESC;FMTTYPE=text/html:<DIV style="FONT-FAMILY: Arial"><P style="MARGIN: 0in 0in 0pt" class=MsoNormal>&nbsp\;</P><P style="MARGIN: 0in 0in 0pt" class=MsoNormal><FONT face=Calibri>The Regional Vision Summit - a gathering of colleagues from the ROC\, business\, labor\, education\, human services\, arts&nbsp\;&amp\; culture\, and local government&nbsp\;-&nbsp\; is set for Friday\, December 5\, 7:30-10:00 a.m. at the iWireless Center.&nbsp\; <?xml:namespace prefix = o ns = "urn:schemas-microsoft-com:office:office" /><o:p></o:p></FONT></P><P style="MARGIN: 0in 0in 0pt" class=MsoNormal><o:p><FONT face=Calibri>&nbsp\;</FONT></o:p></P><P style="MARGIN: 0in 0in 0pt" class=MsoNormal><FONT face=Calibri>We have confirmed that Oklahoma City Mayor Mick Cornett and Chamber CEO Roy Williams will be our keynote speakers that morning to share how Oklahoma City residents and public officials&nbsp\;- over three consecutive administrations&nbsp\;- came together to formulate\, fund and implement an aggressive plan to revitalize their region... and how their efforts have paid off for residents and companies alike. <o:p></o:p></FONT></P><P style="MARGIN: 0in 0in 0pt" class=MsoNormal><o:p><FONT face=Calibri>&nbsp\;</FONT></o:p></P><P style="MARGIN: 0in 0in 0pt" class=MsoNormal><FONT face=Calibri>You will not want to miss their presentation as it has many lessons for the Quad Cities about business leaders holding public office\; community leaders setting a course for the region rather than leaving it to others or to chance\;&nbsp\; taking risks and thinking boldly about what the region can be... and building consensus around key areas that make a vision a reality.<o:p></o:p></FONT></P><P style="MARGIN: 0in 0in 0pt" class=MsoNormal></P></DIV>
LOCATION:iWireless Center1201 River Drive Moline\, IL 612651303
UID:e.2843.933
SEQUENCE:3
DTSTAMP:20260423T005610Z
URL:https://member.quadcitieschamber.com/events/details/regional-vision-summit-12-05-2014-933
END:VEVENT

END:VCALENDAR
