BEGIN:VCALENDAR
VERSION:2.0
PRODID:-//ChamberMaster//Event Calendar 2.0//EN
METHOD:PUBLISH
X-PUBLISHED-TTL:P3D
REFRESH-INTERVAL:P3D
CALSCALE:GREGORIAN
BEGIN:VEVENT
DTSTART:20120802T223000Z
DTEND:20120803T003000Z
X-MICROSOFT-CDO-ALLDAYEVENT:FALSE
SUMMARY:Rejuvenate Davenport Honors Dr. Mike Giudici
DESCRIPTION:Join us as Rejuvenate Davenport honors one of our community's biggest supporters\, Dr. Mike Giudici. Because of Mike\, thousands of trees have been planted in our community through Greenway Habitat. Mike has also served on many boards and committees and has helped make the Quad Cities a better place to live.  As a former president of Rejuvenate Davenport and long time board member\, Mike helped revitalize our community.  Help us thank (and roast) him for his years of service. All proceeds from this roast will go to Scott County Beautification Foundation  For more information or for reservation assistnce\, please call 563.823.2669 Mail:Quad Cities Chamber\, Attn: Kyle Carter 130 W. 2nd St. Davenport\, Iowa 52801 Online reservations are now closed\; please pay at the door if you plan to attend.
X-ALT-DESC;FMTTYPE=text/html:<P style="MARGIN: 0in 0in 0pt\; FONT-FAMILY: Arial" class=MsoNormal align=center><SPAN style="FONT-FAMILY: 'Arial'\,'sans-serif'\; COLOR: black">Join us as Rejuvenate Davenport honors one of our community's biggest supporters\, Dr. Mike Giudici. Because of Mike\, thousands of trees have been planted in our community through Greenway Habitat. Mike has also served on many boards and committees and has helped make the Quad Cities a better place to live.&nbsp\; As a former president of Rejuvenate Davenport and long time board member\, Mike helped revitalize our community.&nbsp\; Help us thank (and roast) him for his years of service.</SPAN></P><P style="MARGIN: 0in 0in 0pt\; FONT-FAMILY: Arial" class=MsoNormal align=center><SPAN style="FONT-FAMILY: 'Arial'\,'sans-serif'\; COLOR: black"></SPAN>&nbsp\;</P><P style="MARGIN: 0in 0in 0pt\; FONT-FAMILY: Arial" class=MsoNormal align=center><SPAN style="FONT-FAMILY: 'Arial'\,'sans-serif'\; COLOR: black"><EM>All proceeds from this roast will go to Scott County Beautification Foundation </EM></SPAN></P><P style="MARGIN: 0in 0in 0pt\; FONT-FAMILY: Arial" class=MsoNormal align=center><SPAN style="FONT-FAMILY: 'Arial'\,'sans-serif'\; COLOR: black"><EM></EM></SPAN>&nbsp\;</P><P style="MARGIN: 0in 0in 0pt\; FONT-FAMILY: Arial" class=MsoNormal align=center><SPAN style="FONT-FAMILY: 'Arial'\,'sans-serif'\; COLOR: black">For more information or for reservation assistnce\, please call 563.823.2669</SPAN></P><P style="MARGIN: 0in 0in 0pt\; FONT-FAMILY: Arial" class=MsoNormal align=center><SPAN style="FONT-FAMILY: 'Arial'\,'sans-serif'\; COLOR: black"></SPAN>&nbsp\;</P><P style="MARGIN: 0in 0in 0pt\; FONT-FAMILY: Arial" class=MsoNormal align=center><SPAN style="FONT-FAMILY: 'Arial'\,'sans-serif'\; COLOR: black">Mail:</SPAN></P><P style="MARGIN: 0in 0in 0pt\; FONT-FAMILY: Arial" class=MsoNormal align=center><SPAN style="FONT-FAMILY: 'Arial'\,'sans-serif'\; COLOR: black">Quad Cities Chamber\, Attn: Kyle Carter </SPAN></P><P style="MARGIN: 0in 0in 0pt\; FONT-FAMILY: Arial" class=MsoNormal align=center><SPAN style="FONT-FAMILY: 'Arial'\,'sans-serif'\; COLOR: black">130 W. 2nd St. </SPAN></P><P style="MARGIN: 0in 0in 0pt\; FONT-FAMILY: Arial" class=MsoNormal align=center><SPAN style="FONT-FAMILY: 'Arial'\,'sans-serif'\; COLOR: black">Davenport\, Iowa 52801</SPAN></P><P style="MARGIN: 0in 0in 0pt\; FONT-FAMILY: Arial" class=MsoNormal align=center><SPAN style="FONT-FAMILY: 'Arial'\,'sans-serif'\; COLOR: black"></SPAN>&nbsp\;</P><P style="MARGIN: 0in 0in 0pt\; FONT-FAMILY: Arial" class=MsoNormal align=center><SPAN style="FONT-FAMILY: 'Arial'\,'sans-serif'\; COLOR: black"><FONT color=#ff0000><STRONG>Online reservations are now closed\; please pay at the door if you plan to attend.</STRONG></FONT></SPAN></P><P style="MARGIN: 0in 0in 0pt\; FONT-FAMILY: Arial" class=MsoNormal align=center><SPAN style="FONT-FAMILY: 'Arial'\,'sans-serif'\; COLOR: black"></SPAN>&nbsp\;</P>
LOCATION:St. Ambrose Rogalski Center518 W. Locust Street Davenport\, IA 52803
UID:e.2843.400
SEQUENCE:3
DTSTAMP:20260421T220340Z
URL:https://member.quadcitieschamber.com/events/details/rejuvenate-davenport-honors-dr-mike-giudici-08-02-2012-400
END:VEVENT

END:VCALENDAR
