BEGIN:VCALENDAR
VERSION:2.0
PRODID:-//ChamberMaster//Event Calendar 2.0//EN
METHOD:PUBLISH
X-PUBLISHED-TTL:P3D
REFRESH-INTERVAL:P3D
CALSCALE:GREGORIAN
BEGIN:VEVENT
DTSTART:20120315T210000Z
DTEND:20120315T213000Z
X-MICROSOFT-CDO-ALLDAYEVENT:FALSE
SUMMARY:Residence Inn by Marriott
DESCRIPTION:Please help the Residence Inn by Marriott Davenport celebrate their $2million renovation with a Ribbon Cutting and Open House on Thursday\, March 15th at 4pm.  The Open House will take place from 4pm to 7pm\, with the actual ribbon cutting at 4pm. For more information about the hotel\, please visit www.marriott.com/mliri
X-ALT-DESC;FMTTYPE=text/html:<DIV><FONT face=Calibri><P style="MARGIN: 0in 0in 0pt" class=MsoNormal>Please help the Residence Inn by Marriott Davenport celebrate their $2million renovation with a Ribbon Cutting and Open House on Thursday\, March 15<SUP>th</SUP> at 4pm.<SPAN style="mso-spacerun: yes">&nbsp\; </SPAN>The Open House will take place from 4pm to 7pm\, with the actual ribbon cutting at 4pm.</P><P style="MARGIN: 0in 0in 0pt" class=MsoNormal><?xml:namespace prefix = o ns = "urn:schemas-microsoft-com:office:office" /><o:p>&nbsp\;</o:p></P><P style="MARGIN: 0in 0in 0pt" class=MsoNormal>For more information about the hotel\, please visit <A href="http://www.marriott.com/mliri"><FONT face="Times New Roman">www.marriott.com/mliri</FONT></A></P><P style="MARGIN: 0in 0in 0pt" class=MsoNormal>&nbsp\;</P></FONT></DIV>
LOCATION:Residence Inn by Marriott120 E. 55th St. Davenport\, IA 52806
UID:e.2843.345
SEQUENCE:3
DTSTAMP:20260422T061405Z
URL:https://member.quadcitieschamber.com/events/details/residence-inn-by-marriott-03-15-2012-345
END:VEVENT

END:VCALENDAR
