BEGIN:VCALENDAR
VERSION:2.0
PRODID:-//ChamberMaster//Event Calendar 2.0//EN
METHOD:PUBLISH
X-PUBLISHED-TTL:P3D
REFRESH-INTERVAL:P3D
CALSCALE:GREGORIAN
BEGIN:VEVENT
DTSTART:20120124T160000Z
DTEND:20120124T163000Z
X-MICROSOFT-CDO-ALLDAYEVENT:FALSE
SUMMARY:Restoration St. Louis\, Inc. Construction Kick-Off
DESCRIPTION:Please help us celebrate Restoration St. Louis’ kick-off construction of Renwick Place at 324 Brady Street in Davenport with a ribbon cutting on Tuesday\, January 24th at 10am.  Restoration St. Louis\, Inc. has been highly successful with the Hotel Blackhawk and Forrest Block Building projects!   Look forward to your support in the latest endeavor by a company committed to Davenport and the Quad Cities!
X-ALT-DESC;FMTTYPE=text/html:<DIV><FONT face=Calibri><P style="MARGIN: 0in 0in 0pt" class=MsoNormal>Please help us celebrate Restoration St. Louis’ kick-off construction of Renwick Place at 324 Brady Street in Davenport with a ribbon cutting on Tuesday\, January 24<SUP>th</SUP> at 10am.<SPAN style="mso-spacerun: yes">&nbsp\; </SPAN>Restoration St. Louis\, Inc. has been highly successful with the Hotel Blackhawk and Forrest Block Building projects!<SPAN style="mso-spacerun: yes">&nbsp\; </SPAN></P><P style="MARGIN: 0in 0in 0pt" class=MsoNormal><?xml:namespace prefix = o ns = "urn:schemas-microsoft-com:office:office" /><o:p>&nbsp\;</o:p></P><P style="MARGIN: 0in 0in 0pt" class=MsoNormal>Look forward to your support in the latest endeavor by a company committed to Davenport and the Quad Cities!</P><P style="MARGIN: 0in 0in 0pt" class=MsoNormal>&nbsp\;</P></FONT></DIV>
LOCATION:Restoration St. Louis\, Inc.3701 Lindell Blvd. St. Louis\, MO 63108
UID:e.2843.335
SEQUENCE:3
DTSTAMP:20260422T093326Z
URL:https://member.quadcitieschamber.com/events/details/restoration-st-louis-inc-construction-kick-off-01-24-2012-335
END:VEVENT

END:VCALENDAR
