BEGIN:VCALENDAR
VERSION:2.0
PRODID:-//ChamberMaster//Event Calendar 2.0//EN
METHOD:PUBLISH
X-PUBLISHED-TTL:P3D
REFRESH-INTERVAL:P3D
CALSCALE:GREGORIAN
BEGIN:VEVENT
DTSTART:20120721T140000Z
DTEND:20120722T220000Z
X-MICROSOFT-CDO-ALLDAYEVENT:FALSE
SUMMARY:Reunion of Warbirds
DESCRIPTION:Reunion of Warbirds! C-130 open for tour\, Trainers\, Fighters\, Bombers\, Prop-planes and Jets. Familyfriendly with food and fun! $5.00 per person parking or $10.00 per carload. Located just 1 mile southof Rock Falls\, Illinois on Route 40\, just off Interstate 88.
X-ALT-DESC;FMTTYPE=text/html:Reunion of Warbirds! C-130 open for tour\, Trainers\, Fighters\, Bombers\, Prop-planes and Jets. Familyfriendly with food and fun! $5.00 per person parking or $10.00 per carload. Located just 1 mile southof Rock Falls\, Illinois on Route 40\, just off Interstate 88.
LOCATION:
UID:e.2843.101
SEQUENCE:3
DTSTAMP:20260421T235028Z
URL:https://member.quadcitieschamber.com/events/details/reunion-of-warbirds-07-21-2012-101
END:VEVENT

END:VCALENDAR
