BEGIN:VCALENDAR
VERSION:2.0
PRODID:-//ChamberMaster//Event Calendar 2.0//EN
METHOD:PUBLISH
X-PUBLISHED-TTL:P3D
REFRESH-INTERVAL:P3D
CALSCALE:GREGORIAN
BEGIN:VEVENT
DTSTART:20190603T163000Z
DTEND:20190603T170000Z
X-MICROSOFT-CDO-ALLDAYEVENT:FALSE
SUMMARY:Revive at The Group Groundbreaking Ceremony
DESCRIPTION:You are invited to join The Group\, Obstetrics and Gynecology Specialists\, P.C. and Revive at The Group as they break ground on their new Medical Spa facility located adjacent to 5350 Eastern Ave.\, Davenport\, IA\, Monday\, June 3 at 11:30 A.M.\n\n\n\nIn addition to the medical spa facility\, the building will have a number of excellent retail spaces available for lease.\n\n\n\nSlated to open January 2020\, the new Revive building will showcase a twelve-room cutting edge medical spa with a variety of services\, products\, and equipment. The design features a quiet lounge area and private holding rooms.  New product and service offerings will include facials\, makeup services\, massage\, expanded product lines\, and comprehensive lasers. With more than 80 years of combined experience\, Revive's staff continues to include a team of established Physicians\, Nurse Practitioners\, licensed aestheticians\, certified laser technicians\, and certified cosmetic injectors.\n\n\n\n"With the great success of Revive at the Group\, we are excited about the new facility and are confident in Revive's appeal and approach at becoming the leading medical spa in the Quad City and surrounding area\," says Dave Larson\, Business Administrator.
X-ALT-DESC;FMTTYPE=text/html:<span style="font-family:times new roman\,serif">You are invited to join The Group\, Obstetrics and Gynecology Specialists\, P.C. and Revive at The Group as they break ground on their new Medical Spa facility located adjacent to 5350 Eastern Ave.\, Davenport\, IA\, Monday\, June 3 at 11:30 A.M.<br />\n<br />\nIn addition to the medical spa facility\, the building will have a number of excellent retail spaces available for lease.</span><br />\n<br />\n<span style="font-family:times new roman\,serif">Slated to open January 2020\, the new Revive building will showcase a twelve-room cutting edge medical spa with a variety of services\, products\, and equipment. The design features a quiet lounge area and private holding rooms. &nbsp\;New product and service offerings will include facials\, makeup services\, massage\, expanded product lines\, and comprehensive lasers. </span><span style="font-family:times new roman\,serif">With more than 80 years of combined experience\, Revive&rsquo\;s staff continues to include a team of established Physicians\, Nurse Practitioners\, licensed aestheticians\, certified laser technicians\, and certified cosmetic injectors.</span><br />\n<br />\n<span style="font-family:times new roman\,serif">&ldquo\;With the great success of Revive at the Group\, we are excited about the new facility and are confident in Revive&rsquo\;s appeal and approach at becoming the leading medical spa in the Quad City and surrounding area\,&rdquo\; says Dave Larson\, Business Administrator.</span>
LOCATION:The Group 5350 Eastern Ave\, Davenport\, IA
UID:e.2843.15400
SEQUENCE:3
DTSTAMP:20260422T131321Z
URL:https://member.quadcitieschamber.com/events/details/revive-at-the-group-groundbreaking-ceremony-15400
END:VEVENT

END:VCALENDAR
