BEGIN:VCALENDAR
VERSION:2.0
PRODID:-//ChamberMaster//Event Calendar 2.0//EN
METHOD:PUBLISH
X-PUBLISHED-TTL:P3D
REFRESH-INTERVAL:P3D
CALSCALE:GREGORIAN
BEGIN:VEVENT
DTSTART:20140207T220000Z
DTEND:20140208T010000Z
X-MICROSOFT-CDO-ALLDAYEVENT:FALSE
SUMMARY:Rhythm City Casino Grand Reopening Ribbon Cutting
DESCRIPTION:The Rhythm City Casino\, located at 101 West River Dr. Davenport\, IA 52801\, will be celebrating their grand reopening with a ribbon cutting on Friday\, February 7th at 4:00pm.   Rhythm City Casino\, LLC is a group of Iowa investors led by the Kehl family.  The purchase of the Rhythm City Casino is the first step  in developing a modern casino with easy access from major highways. The casino will feature a wide range of amenities in addition to gaming\, including: multiple food outlets\, a hotel\, retail shops\, a spa\, meeting space\, and a venue for live entertainment. For more information\, please visit www.rhythmcitycasino.com.   Tara Barney\, President and CEO\, will be speaking on behalf of the Quad Cities Chamber of Commerce.
X-ALT-DESC;FMTTYPE=text/html:<P style="MARGIN: 0in 0in 0pt" class=MsoNormal><FONT face=Calibri><SPAN style="mso-spacerun: yes">The Rhythm City Casino\, located at <B style="mso-bidi-font-weight: normal">101 West River Dr. Davenport\, IA 52801</B>\, will be celebrating their grand reopening with a ribbon cutting on <B style="mso-bidi-font-weight: normal">Friday\, February 7<SUP>th</SUP> at 4:00pm</B>.<SPAN style="mso-spacerun: yes">&nbsp\; </SPAN><?xml:namespace prefix = o ns = "urn:schemas-microsoft-com:office:office" /><o:p></o:p></P><P style="MARGIN: 0in 0in 0pt" class=MsoNormal><o:p>&nbsp\;</o:p></P><P style="MARGIN: 0in 0in 0pt" class=MsoNormal>Rhythm City Casino\, LLC is a group of Iowa investors led by the Kehl family.<SPAN style="mso-spacerun: yes">&nbsp\; </SPAN>The purchase of the Rhythm City Casino is the first step<SPAN style="mso-spacerun: yes">&nbsp\; </SPAN>in developing a modern casino with easy access from major highways. The casino will feature&nbsp\;a wide range of amenities in addition to gaming\, including: multiple food outlets\, a hotel\, retail shops\, a spa\, meeting space\, and a venue for live entertainment.<o:p></o:p></P><P style="MARGIN: 0in 0in 0pt" class=MsoNormal><o:p>&nbsp\;</o:p></P><P style="MARGIN: 0in 0in 0pt" class=MsoNormal>For more information\, please visit <A href="http://www.rhythmcitycasino.com"><FONT color=#0000ff face="Times New Roman">www.rhythmcitycasino.com</FONT></A>.<SPAN style="mso-spacerun: yes">&nbsp\; </SPAN><o:p></o:p></P><P style="MARGIN: 0in 0in 0pt" class=MsoNormal><o:p>&nbsp\;</o:p></P><P style="MARGIN: 0in 0in 0pt" class=MsoNormal>Tara Barney\, President and CEO\, will be speaking on behalf of the Quad Cities Chamber of Commerce.<o:p></o:p></P><P style="MARGIN: 0in 0in 0pt" class=MsoNormal></SPAN></FONT><o:p></o:p>&nbsp\;</P><P>&nbsp\;</P>
LOCATION:Rhythm City Casino101 W River Drive Davenport\, IA 52801
UID:e.2843.770
SEQUENCE:3
DTSTAMP:20260422T031917Z
URL:https://member.quadcitieschamber.com/events/details/rhythm-city-casino-grand-reopening-ribbon-cutting-02-07-2014-770
END:VEVENT

END:VCALENDAR
