BEGIN:VCALENDAR
VERSION:2.0
PRODID:-//ChamberMaster//Event Calendar 2.0//EN
METHOD:PUBLISH
X-PUBLISHED-TTL:P3D
REFRESH-INTERVAL:P3D
CALSCALE:GREGORIAN
BEGIN:VEVENT
DTSTART:20180522T150000Z
DTEND:20180523T000000Z
X-MICROSOFT-CDO-ALLDAYEVENT:FALSE
SUMMARY:RIAWC Golf Tournament
DESCRIPTION:PLEASE JOIN US! Tuesday\, May 22\, 2018 Rock Island Arsenal Golf Club Registration: 10:00 am-11:30 am Shotgun Start: 12:00 pm Buffet Dinner upon completion of round Entry Fee: $125/golfer Registration includes: Green fees\, cart\, 3 drink coupons\, lunch and buffet dinner. Registration is open until all teams have been filled. Format: 4-Person Scramble Super Ticket: Mulligans\, Longest Drive\, Closest to pin 50/50 opportunity\, range balls\, another drink coupon $40 individual plus 1 hand chip\, 1 perfect 350 yard drive\, Automatic One Putt and 4 drink coupons (one for each golfer) for $120 per team ($40 savings) Awards for 1st\, 2nd and 3rd place finishers along with prizes for designated holes. Register at: Click Here for Golf Registration Interested in sponsoring or donating to this event? All proceeds go towards scholarships and community grants!
X-ALT-DESC;FMTTYPE=text/html:PLEASE JOIN US! Tuesday\, May 22\, 2018 Rock Island Arsenal Golf Club Registration: 10:00 am-11:30 am Shotgun Start: 12:00 pm Buffet Dinner upon completion of round Entry Fee: $125/golfer Registration includes: Green fees\, cart\, 3 drink coupons\, lunch and buffet dinner. Registration is open until all teams have been filled. Format: 4-Person Scramble Super Ticket: Mulligans\, Longest Drive\, Closest to pin 50/50 opportunity\, range balls\, another drink coupon $40 individual plus 1 hand chip\, 1 perfect 350 yard drive\, Automatic One Putt and 4 drink coupons (one for each golfer) for $120 per team ($40 savings) Awards for 1st\, 2nd and 3rd place finishers along with prizes for designated holes. Register at: Click Here for Golf Registration Interested in sponsoring or donating to this event? All proceeds go towards scholarships and community grants!
LOCATION:Rock Island Arsenal Golf Club
UID:e.2843.13198
SEQUENCE:3
DTSTAMP:20260423T105849Z
URL:https://member.quadcitieschamber.com/events/details/riawc-golf-tournament-13198
END:VEVENT

END:VCALENDAR
