BEGIN:VCALENDAR
VERSION:2.0
PRODID:-//ChamberMaster//Event Calendar 2.0//EN
METHOD:PUBLISH
X-PUBLISHED-TTL:P3D
REFRESH-INTERVAL:P3D
CALSCALE:GREGORIAN
BEGIN:VEVENT
DTSTART:20120117T160000Z
DTEND:20120117T170000Z
X-MICROSOFT-CDO-ALLDAYEVENT:FALSE
SUMMARY:Ribbon Cutting
DESCRIPTION:There will be a ribbon cutting to celebrate the new campus building on River Drive in Moline on Tuesday\, January 17\, 2012 at 9am.
X-ALT-DESC;FMTTYPE=text/html:<DIV><FONT face=Calibri><P style="MARGIN: 0in 0in 0pt" class=MsoNormal>There will be a ribbon cutting to celebrate the new campus building on River Drive in Moline on Tuesday\, January 17\, 2012 at 9am.<SPAN style="mso-spacerun: yes">&nbsp\; </SPAN></P></FONT></DIV>
LOCATION:Western Illinois University Quad Cities3561 60th Street Moline\, IL 61265
UID:e.2843.322
SEQUENCE:3
DTSTAMP:20260422T092841Z
URL:https://member.quadcitieschamber.com/events/details/ribbon-cutting-01-17-2012-322
END:VEVENT

END:VCALENDAR
