BEGIN:VCALENDAR
VERSION:2.0
PRODID:-//ChamberMaster//Event Calendar 2.0//EN
METHOD:PUBLISH
X-PUBLISHED-TTL:P3D
REFRESH-INTERVAL:P3D
CALSCALE:GREGORIAN
BEGIN:VEVENT
DTSTART:20111103T200000Z
DTEND:20111103T203000Z
X-MICROSOFT-CDO-ALLDAYEVENT:FALSE
SUMMARY:Ribbon Cutting
DESCRIPTION:Humility of Mary Housing\, Inc. in Davenport will have a ribbon cutting on Thursday\, November 3\, 2011 at 3pm to celebrate a new location and remodel. This is a supportive housing program for single parent families\; provides services and housing to 47 families at 16 properties\; services include a food pantry and clothing and donation area where families can get things for their apartments as well as paper products\, cleaning products\, personal hygiene products\; serves the greater Quad City-area\; provides opportunities for growth and development that can take families from homelessness to self-sufficient living\; provides the foundation upon which the families can build the rest of their lives\; children learn there is a different way to live. This is located east of Dahl Ford and two buildings north of Habitat ReStore.
X-ALT-DESC;FMTTYPE=text/html:<DIV><P style="MARGIN: 0in 0in 0pt" class=MsoNormal><FONT face=Calibri>Humility of Mary Housing\, Inc. in Davenport will have a ribbon cutting on Thursday\, November 3\, 2011 at 3pm to celebrate a new location and remodel.<?xml:namespace prefix = o ns = "urn:schemas-microsoft-com:office:office" /><o:p></o:p></FONT></P><P style="MARGIN: 0in 0in 0pt" class=MsoNormal><o:p><FONT face=Calibri>&nbsp\;</FONT></o:p></P><P style="MARGIN: 0in 0in 0pt" class=MsoNormal><FONT face=Calibri>This is a supportive housing program for single parent families\; provides services and housing to 47 families at 16 properties\; services include a food pantry and clothing and donation area where families can get things for their apartments as well as paper products\, cleaning products\, personal hygiene products\; serves the greater Quad City-area\; provides opportunities for growth and development that can take families from homelessness to self-sufficient living\; provides the foundation upon which the families can build the rest of their lives\; children learn there is a different way to live.<o:p></o:p></FONT></P><P style="MARGIN: 0in 0in 0pt" class=MsoNormal><o:p><FONT face=Calibri>&nbsp\;</FONT></o:p></P><P style="MARGIN: 0in 0in 0pt" class=MsoNormal><FONT face=Calibri>This is located east of Dahl Ford and two buildings north of Habitat ReStore.<o:p></o:p></FONT></P></DIV>
LOCATION:Humility of Mary Housing3805 Mississippi Ave. Davenport\, IA 52807
UID:e.2843.293
SEQUENCE:3
DTSTAMP:20260422T111008Z
URL:https://member.quadcitieschamber.com/events/details/ribbon-cutting-11-03-2011-293
END:VEVENT

END:VCALENDAR
