BEGIN:VCALENDAR
VERSION:2.0
PRODID:-//ChamberMaster//Event Calendar 2.0//EN
METHOD:PUBLISH
X-PUBLISHED-TTL:P3D
REFRESH-INTERVAL:P3D
CALSCALE:GREGORIAN
BEGIN:VEVENT
DTSTART:20111107T220000Z
DTEND:20111107T223000Z
X-MICROSOFT-CDO-ALLDAYEVENT:FALSE
SUMMARY:Ribbon Cutting
DESCRIPTION:There will be a ribbon cutting at Bickford Senior Living on Monday\, November 7th at 4pm to celebrate their property reinvestment.  An Open House will take place from 10am to 7pm.  This is an assisted living and memory care facility.  They are located just off Utica Ridge and 53rd Street (behind HyVee).
X-ALT-DESC;FMTTYPE=text/html:<div>\n<p class="MsoNormal" style="MARGIN: 0in 0in 0pt"><font face="Calibri">There will be a ribbon cutting at Bickford Senior Living on Monday\, November 7<sup>th</sup> at 4pm to celebrate their property reinvestment.<span style="mso-spacerun: yes">&nbsp\; </span>An Open House will take place from 10am to 7pm.<span style="mso-spacerun: yes">&nbsp\; </span>This is an assisted living and memory care facility.<span style="mso-spacerun: yes">&nbsp\; </span>They are located just off Utica Ridge and 53<sup>rd</sup> Street (behind HyVee).</font></p>\n</div>\n
LOCATION:Bickford Assisted Living and Memory Care4040 E. 55th St. Davenport\, IA 52807
UID:e.2843.299
SEQUENCE:3
DTSTAMP:20260422T111008Z
URL:https://member.quadcitieschamber.com/events/details/ribbon-cutting-11-07-2011-299
END:VEVENT

END:VCALENDAR
