BEGIN:VCALENDAR
VERSION:2.0
PRODID:-//ChamberMaster//Event Calendar 2.0//EN
METHOD:PUBLISH
X-PUBLISHED-TTL:P3D
REFRESH-INTERVAL:P3D
CALSCALE:GREGORIAN
BEGIN:VEVENT
DTSTART:20111109T173000Z
DTEND:20111109T183000Z
X-MICROSOFT-CDO-ALLDAYEVENT:FALSE
SUMMARY:Ribbon Cutting
DESCRIPTION:There will be a ribbon cutting and grand opening for The Honeybaked Ham located at 1554 52nd Avenue\, Suite 4 in Moline (near SouthPark Mall\, just off 16th Street)\, on Wednesday\, November 9th at 11:30am.  Lunch will be provided following the ribbon cutting.  This is the first of two locations.  The other store will open in December and a ribbon cutting will be scheduled during that month.
X-ALT-DESC;FMTTYPE=text/html:<DIV><FONT face=Calibri><P style="MARGIN: 0in 0in 0pt" class=MsoNormal>There will be a ribbon cutting and grand opening for The Honeybaked Ham located at 1554 52<SUP>nd</SUP> Avenue\, Suite 4 in Moline (near SouthPark Mall\, just off 16<SUP>th</SUP> Street)\, on Wednesday\, November 9<SUP>th</SUP> at 11:30am.<SPAN style="mso-spacerun: yes">&nbsp\; </SPAN>Lunch will be provided following the ribbon cutting.<SPAN style="mso-spacerun: yes">&nbsp\; </SPAN>This is the first of two locations.<SPAN style="mso-spacerun: yes">&nbsp\; </SPAN>The other store will open in December and a ribbon cutting will be scheduled during that month.</P></FONT></DIV>
LOCATION:Honey Baked Ham and Cafe1554 52nd Ave. Moline\, IL 61265
UID:e.2843.300
SEQUENCE:3
DTSTAMP:20260422T111132Z
URL:https://member.quadcitieschamber.com/events/details/ribbon-cutting-11-09-2011-300
END:VEVENT

END:VCALENDAR
