BEGIN:VCALENDAR
VERSION:2.0
PRODID:-//ChamberMaster//Event Calendar 2.0//EN
METHOD:PUBLISH
X-PUBLISHED-TTL:P3D
REFRESH-INTERVAL:P3D
CALSCALE:GREGORIAN
BEGIN:VEVENT
DTSTART:20111114T150000Z
DTEND:20111114T153000Z
X-MICROSOFT-CDO-ALLDAYEVENT:FALSE
SUMMARY:Ribbon Cutting
DESCRIPTION:The Good Samaritan Society will be hosting a Ribbon Cutting and Open House on Monday\, November 14\, 2011 from 9am to 11am.  The ribbon cutting will be as close to 9am as possible.  This is in celebration of an expansion. They serve seniors and others in need in our community by providing a skilled nursing center\, rehab\, memory care unit\, independent senior apartments and home health care. Directions:  turn left off W. Locust onto Waverly Rd. just past Davenport West High School
X-ALT-DESC;FMTTYPE=text/html:<DIV><FONT face=Calibri><P style="MARGIN: 0in 0in 0pt" class=MsoNormal>The Good Samaritan Society will be hosting a Ribbon Cutting and Open House on Monday\, November 14\, 2011 from 9am to 11am.<SPAN style="mso-spacerun: yes">&nbsp\; </SPAN>The ribbon cutting will be as close to 9am as possible.<SPAN style="mso-spacerun: yes">&nbsp\; </SPAN>This is in celebration of an expansion.<?xml:namespace prefix = o ns = "urn:schemas-microsoft-com:office:office" /><o:p></o:p></P><P style="MARGIN: 0in 0in 0pt" class=MsoNormal><o:p>&nbsp\;</o:p></P><P style="MARGIN: 0in 0in 0pt" class=MsoNormal>They serve seniors and others in need in our community by providing a skilled nursing center\, rehab\, memory care unit\, independent senior apartments and home health care.<o:p></o:p></P><P style="MARGIN: 0in 0in 0pt" class=MsoNormal><o:p>&nbsp\;</o:p></P><P style="MARGIN: 0in 0in 0pt" class=MsoNormal>Directions:<SPAN style="mso-spacerun: yes">&nbsp\; </SPAN>turn left off W. Locust onto Waverly Rd. just past Davenport West High School<o:p></o:p></P><P style="MARGIN: 0in 0in 0pt" class=MsoNormal></FONT></P></DIV>
LOCATION:Good Samaritan Society Davenport700 Waverly Rd. Davenport\, IA 52804
UID:e.2843.294
SEQUENCE:3
DTSTAMP:20260422T110952Z
URL:https://member.quadcitieschamber.com/events/details/ribbon-cutting-11-14-2011-294
END:VEVENT

END:VCALENDAR
