BEGIN:VCALENDAR
VERSION:2.0
PRODID:-//ChamberMaster//Event Calendar 2.0//EN
METHOD:PUBLISH
X-PUBLISHED-TTL:P3D
REFRESH-INTERVAL:P3D
CALSCALE:GREGORIAN
BEGIN:VEVENT
DTSTART:20111201T170000Z
DTEND:20111201T173000Z
X-MICROSOFT-CDO-ALLDAYEVENT:FALSE
SUMMARY:Ribbon Cutting
DESCRIPTION:Pack & Mail will be celebrating their opening with a ribbon cutting on Thursday\, December 1st at 11am.   They are located next to Kelly’s Pub on 53rd St.
X-ALT-DESC;FMTTYPE=text/html:<DIV><FONT face=Calibri><P style="MARGIN: 0in 0in 0pt" class=MsoNormal>Pack &amp\; Mail will be celebrating their opening with a ribbon cutting on Thursday\, December 1<SUP>st</SUP> at 11am.<SPAN style="mso-spacerun: yes">&nbsp\;&nbsp\; </SPAN>They are located next to Kelly’s Pub on 53<SUP>rd</SUP> St.</P></FONT></DIV>
LOCATION:Pack & Mail2222 E. 53rd St.\, Suite 8 Davenport\, IA 52807
UID:e.2843.310
SEQUENCE:3
DTSTAMP:20260422T110952Z
URL:https://member.quadcitieschamber.com/events/details/ribbon-cutting-12-01-2011-310
END:VEVENT

END:VCALENDAR
