BEGIN:VCALENDAR
VERSION:2.0
PRODID:-//ChamberMaster//Event Calendar 2.0//EN
METHOD:PUBLISH
X-PUBLISHED-TTL:P3D
REFRESH-INTERVAL:P3D
CALSCALE:GREGORIAN
BEGIN:VEVENT
DTSTART:20111208T153000Z
DTEND:20111208T160000Z
X-MICROSOFT-CDO-ALLDAYEVENT:FALSE
SUMMARY:Ribbon Cutting
DESCRIPTION:The Waste Commission of Scott County will hold a ribbon cutting on Thursday\, December 8th at 9:30am to celebrate improvements at the landfill\, a new scale and a new customer convenience area.
X-ALT-DESC;FMTTYPE=text/html:<DIV><FONT face=Calibri><P style="MARGIN: 0in 0in 0pt" class=MsoNormal>The Waste Commission of Scott County will hold a ribbon cutting on Thursday\, December 8<SUP>th</SUP> at 9:30am to celebrate improvements at the landfill\, a new scale and a new customer convenience area.</P></FONT></DIV>
LOCATION:Waste Commission of Scott County11555 110th Ave\, County Road Y-48 Buffalo\, IA 52728
UID:e.2843.316
SEQUENCE:3
DTSTAMP:20260422T111008Z
URL:https://member.quadcitieschamber.com/events/details/ribbon-cutting-12-08-2011-316
END:VEVENT

END:VCALENDAR
