BEGIN:VCALENDAR
VERSION:2.0
PRODID:-//ChamberMaster//Event Calendar 2.0//EN
METHOD:PUBLISH
X-PUBLISHED-TTL:P3D
REFRESH-INTERVAL:P3D
CALSCALE:GREGORIAN
BEGIN:VEVENT
DTSTART:20111214T173000Z
DTEND:20111214T180000Z
X-MICROSOFT-CDO-ALLDAYEVENT:FALSE
SUMMARY:Ribbon Cutting
DESCRIPTION:Please help Bev Mizerny celebrate the opening of her second location of Honeybaked Ham on Wednesday\, December 14th at 11:30am.    1515 5th Avenue is located in downtown Moline.
X-ALT-DESC;FMTTYPE=text/html:<DIV><FONT face=Calibri><P style="MARGIN: 0in 0in 0pt" class=MsoNormal>Please help Bev Mizerny celebrate the opening of her second location of Honeybaked Ham on Wednesday\, December 14<SUP>th</SUP> at 11:30am.<SPAN style="mso-spacerun: yes">&nbsp\;&nbsp\;&nbsp\; </SPAN>1515 5<SUP>th</SUP> Avenue is located in downtown Moline.</P></FONT></DIV>
LOCATION:Honey Baked Ham and Cafe1515 5th Ave. Moline\, IL 61265
UID:e.2843.312
SEQUENCE:3
DTSTAMP:20260422T110952Z
URL:https://member.quadcitieschamber.com/events/details/ribbon-cutting-12-14-2011-312
END:VEVENT

END:VCALENDAR
