BEGIN:VCALENDAR
VERSION:2.0
PRODID:-//ChamberMaster//Event Calendar 2.0//EN
METHOD:PUBLISH
X-PUBLISHED-TTL:P3D
REFRESH-INTERVAL:P3D
CALSCALE:GREGORIAN
BEGIN:VEVENT
DTSTART:20170823T180000Z
DTEND:20170823T183000Z
X-MICROSOFT-CDO-ALLDAYEVENT:FALSE
SUMMARY:Ribbon Cutting - 501 Brady Lofts
DESCRIPTION:501 Brady Lofts\, 501 Brady St. Davenport\, IA 52803\, will host a ribbon cutting ceremony on Wednesday\, August 23 at 1:00pm to celebrate their grand opening.\n\n \n\n501 Brady is a brand-new loft property in downtown Davenport. It features premium\, industrial\, loft-like fixtures and finishes and boasts some stellar river views!
X-ALT-DESC;FMTTYPE=text/html:<span style="font-family:arial\;"><span style="font-size:14px\;">501 Brady Lofts\, 501 Brady St. Davenport\, IA 52803\, will host a ribbon cutting ceremony on Wednesday\, August 23 at 1:00pm to celebrate their grand opening.<br />\n&nbsp\;<br />\n501 Brady is a brand-new loft property in downtown Davenport. It features premium\, industrial\, loft-like fixtures and finishes and boasts some stellar river views!&nbsp\;</span></span>
LOCATION:501 Brady Lofts 501 Brady St. Davenport\, IA 52803
UID:e.2843.6355
SEQUENCE:3
DTSTAMP:20260423T231951Z
URL:https://member.quadcitieschamber.com/events/details/ribbon-cutting-501-brady-lofts-6355
END:VEVENT

END:VCALENDAR
