BEGIN:VCALENDAR
VERSION:2.0
PRODID:-//ChamberMaster//Event Calendar 2.0//EN
METHOD:PUBLISH
X-PUBLISHED-TTL:P3D
REFRESH-INTERVAL:P3D
CALSCALE:GREGORIAN
BEGIN:VEVENT
DTSTART:20190806T150000Z
DTEND:20190806T153000Z
X-MICROSOFT-CDO-ALLDAYEVENT:FALSE
SUMMARY:Ribbon Cutting - Advanced Rehab and Sports Medicine
DESCRIPTION:Advanced Rehab and Sports Medicine will host a ribbon cutting ceremony on Tuesday\, August 6 at 10:00 am.
X-ALT-DESC;FMTTYPE=text/html:Advanced Rehab and Sports Medicine will host a ribbon cutting ceremony on Tuesday\, August 6 at 10:00 am.
LOCATION:2979 Victoria Street Bettendorf\, IA 52722
UID:e.2843.15481
SEQUENCE:3
DTSTAMP:20260422T101245Z
URL:https://member.quadcitieschamber.com/events/details/ribbon-cutting-advanced-rehab-and-sports-medicine-15481
END:VEVENT

END:VCALENDAR
