BEGIN:VCALENDAR
VERSION:2.0
PRODID:-//ChamberMaster//Event Calendar 2.0//EN
METHOD:PUBLISH
X-PUBLISHED-TTL:P3D
REFRESH-INTERVAL:P3D
CALSCALE:GREGORIAN
BEGIN:VEVENT
DTSTART:20190613T132500Z
DTEND:20190613T140000Z
X-MICROSOFT-CDO-ALLDAYEVENT:FALSE
SUMMARY:Ribbon Cutting - ALDI INC #23
DESCRIPTION:Aldi Inc. #23 will host a ribbon cutting ceremony on June 13 at 8:25 am to celebrate the Grand Re-opening of their newly remodeled store!
X-ALT-DESC;FMTTYPE=text/html:<span style="font-family:arial\,sans-serif\;">Aldi Inc. #23 will host a ribbon cutting ceremony on <strong><u>June 13 at 8:25 am</u></strong> to celebrate the Grand Re-opening of their newly remodeled store!</span>
LOCATION:4211 Avenue of the Cities Moline\, IL 61265
UID:e.2843.15396
SEQUENCE:3
DTSTAMP:20260422T145322Z
URL:https://member.quadcitieschamber.com/events/details/ribbon-cutting-aldi-inc-23-15396
END:VEVENT

END:VCALENDAR
