BEGIN:VCALENDAR
VERSION:2.0
PRODID:-//ChamberMaster//Event Calendar 2.0//EN
METHOD:PUBLISH
X-PUBLISHED-TTL:P3D
REFRESH-INTERVAL:P3D
CALSCALE:GREGORIAN
BEGIN:VEVENT
DTSTART:20190228T142000Z
DTEND:20190228T150000Z
X-MICROSOFT-CDO-ALLDAYEVENT:FALSE
SUMMARY:Ribbon Cutting - Aldi Inc. #84
DESCRIPTION:Aldi Inc. #84 will host a ribbon cutting ceremony on February 28 at 8:25 am to celebrate their newly remodeled business.
X-ALT-DESC;FMTTYPE=text/html:Aldi Inc. #84 will host a ribbon cutting ceremony on February 28 at <u><strong>8:25 am</strong></u> to celebrate their newly remodeled business.
LOCATION:1210 18th Street Silvis\, IL 61282
UID:e.2843.13776
SEQUENCE:3
DTSTAMP:20260422T195641Z
URL:https://member.quadcitieschamber.com/events/details/ribbon-cutting-aldi-inc-84-13776
END:VEVENT

END:VCALENDAR
