BEGIN:VCALENDAR
VERSION:2.0
PRODID:-//ChamberMaster//Event Calendar 2.0//EN
METHOD:PUBLISH
X-PUBLISHED-TTL:P3D
REFRESH-INTERVAL:P3D
CALSCALE:GREGORIAN
BEGIN:VEVENT
DTSTART:20171116T142500Z
DTEND:20171116T150000Z
X-MICROSOFT-CDO-ALLDAYEVENT:FALSE
SUMMARY:Ribbon Cutting - ALDI\, Inc.
DESCRIPTION:ALDI\, 5266 Elmore Ave. Davenport\, IA 52807\, will host a ribbon cutting ceremony on Thursday\, November 16 at 8:25am to celebrate their grand re-opening following renovations.
X-ALT-DESC;FMTTYPE=text/html:<span style="font-size:14px\;"><span style="font-family:arial\;">ALDI\, 5266 Elmore Ave. Davenport\, IA 52807\, will host a ribbon cutting ceremony on Thursday\, November 16 at 8:25am to celebrate their grand re-opening following renovations.&nbsp\;</span></span>
LOCATION:ALDI 5266 Elmore Ave. Davenport\, IA 52807
UID:e.2843.8813
SEQUENCE:3
DTSTAMP:20260423T194010Z
URL:https://member.quadcitieschamber.com/events/details/ribbon-cutting-aldi-inc-8813
END:VEVENT

END:VCALENDAR
