BEGIN:VCALENDAR
VERSION:2.0
PRODID:-//ChamberMaster//Event Calendar 2.0//EN
METHOD:PUBLISH
X-PUBLISHED-TTL:P3D
REFRESH-INTERVAL:P3D
CALSCALE:GREGORIAN
BEGIN:VEVENT
DTSTART:20181107T220000Z
DTEND:20181108T000000Z
X-MICROSOFT-CDO-ALLDAYEVENT:FALSE
SUMMARY:Ribbon Cutting - AltSTATES Travel
DESCRIPTION:altSTATES Travel will host a ribbon cutting ceremony on Wednesday\, November 7th at 4:00 pm to celebrate an expansion of their business.
X-ALT-DESC;FMTTYPE=text/html:altSTATES Travel will host a ribbon cutting ceremony on Wednesday\, November 7th at 4:00 pm to celebrate an expansion of their business.
LOCATION:coworkqc 102 E. 2nd Street Davenport\, IA 52801
UID:e.2843.13527
SEQUENCE:3
DTSTAMP:20260423T030144Z
URL:https://member.quadcitieschamber.com/events/details/ribbon-cutting-altstates-travel-13527
END:VEVENT

END:VCALENDAR
