BEGIN:VCALENDAR
VERSION:2.0
PRODID:-//ChamberMaster//Event Calendar 2.0//EN
METHOD:PUBLISH
X-PUBLISHED-TTL:P3D
REFRESH-INTERVAL:P3D
CALSCALE:GREGORIAN
BEGIN:VEVENT
DTSTART:20180419T203000Z
DTEND:20180419T230000Z
X-MICROSOFT-CDO-ALLDAYEVENT:FALSE
SUMMARY:Ribbon Cutting and Anniversary Celebration - Hopkins & Huebner\, P.C.
DESCRIPTION:Hopkins & Huebner\, P.C.\, 100 E. Kimberly Road\, Suite 400 (4th floor of the Northwest Bank Tower) Davenport\, IA 52806\, will host a ribbon cutting ceremony on Thursday\, April 19 at 3:30pm in celebration of their recent expansion and 20 years of service in the Quad Cities! An open house will follow until 6pm.
X-ALT-DESC;FMTTYPE=text/html:<span style="font-family:arial\,sans-serif\;"><span style="font-size:11.0pt\;">Hopkins &amp\; Huebner\, P.C.\, 100 E. Kimberly Road\, Suite 400 (4<sup>th</sup> floor of the Northwest Bank Tower) Davenport\, IA 52806\, will host a ribbon cutting ceremony on Thursday\, April 19 at 3:30pm in celebration of their recent expansion and 20 years of service in the Quad Cities! An open house will follow until 6pm.&nbsp\;</span></span>
LOCATION:Northwest Bank Tower 100 E. Kimberly Road\, Suite 400 Davenport\, IA 52806
UID:e.2843.12121
SEQUENCE:3
DTSTAMP:20260423T123433Z
URL:https://member.quadcitieschamber.com/events/details/ribbon-cutting-and-anniversary-celebration-hopkins-huebner-p-c-12121
END:VEVENT

END:VCALENDAR
