BEGIN:VCALENDAR
VERSION:2.0
PRODID:-//ChamberMaster//Event Calendar 2.0//EN
METHOD:PUBLISH
X-PUBLISHED-TTL:P3D
REFRESH-INTERVAL:P3D
CALSCALE:GREGORIAN
BEGIN:VEVENT
DTSTART:20180607T160000Z
DTEND:20180607T190000Z
X-MICROSOFT-CDO-ALLDAYEVENT:FALSE
SUMMARY:Ribbon Cutting and Block Party- Salvation Park: Friendship Manor's West Entrance Beautification and Urban Renewal Project
DESCRIPTION:Friendship Manor and Olivet Baptist Church will host a ribbon cutting ceremony on Thursday\, June 7 at 11am to celebrate the completion of their beautification project located at the corner of 11th Street and 21st Avenue in Rock Island. The community is invited to attend the event\, which includes refreshments\, entertainment\, and tours from 11am   2pm.\n\nFriendship Manor is located at 1209 21st Ave. Rock Island\, IL 61201\n\n \n\n \n\nAbout the Project: \n\nA wonderful project has come to fruition\, thanks to the collaboration and kinship between Olivet Baptist Church and Friendship Manor. On Thursday\, June 7th there will be a ribbon cutting by the QC Chamber of Commerce\, along with a block party on the corner of 11th Street and 21st Avenue. The event is for neighbors and friends to celebrate the completion of the West Entrance Beautification and Urban Renewal Project named Salvation Park.\n\n \n\nFor the last several years\, it had become apparent that an improvement was needed to the entrance of Friendship Manor and Olivet Baptist Church along 11th Street at 21st Avenue. Like many urban highway routes\, the scenery wasn't always welcoming. However\, thanks to several neighborhood partners\, generous donors\, the City of Rock Island\, and Friendship Manor founders (The King's Daughters and Sons)\, Salvation Park started taking place.\n\n \n\nThe components of the West Entrance Beautification and Urban Renewal Project included a new parking lot\, a welcome way to the "Friendship Neighborhood" on the SE corner of 11th Street and 21st Avenue\, a complementing welcome on the NE corner\, removal of an unattractive building in the 1100 block of 21st Avenue\, and removal of the Salvation Army building.\n\n \n\nIn early 2017\, the parking lot was completed and is shared between Friendship Manor and Olivet Baptist Church. When the Salvation Army property became available\, the Manor's vision for an entire city block took shape. Manor management met with Salvation Army personnel and thanks to a generous gift by an anonymous donor\, the property was purchased in April of 2017.\n\n \n\nThe Manor already had artistic renderings of their vision for the SE corner of 11th & 21st.  That piece of WEB & URP had three phases\, but the Salvation Army piece was really a "leap frog" over two city owned parcels. Ted Pappas\, President and CEO of Friendship Manor states\, "There was no point in obtaining the Salvation Army property unless we could also own and control the corner pieces\, which enabled the welcome signage and a contiguous development. Manor management met with the City of Rock Island and asked for the two needed parcels\, and they generously agreed!"\n\n \n\nWith assets\, generous donations and help from the City of Rock Island\, "Friendship Neighborhood" has a new welcome way with Salvation Park\, complete with monument sign\, plants and flowers. At the celebration with the QC Chamber of Commerce ribbon cutting and neighborhood block party on June 7th from 11 a.m. to 2 p.m.\, Friendship Manor and Olivet Baptist Church will be providing refreshments\, entertainment and tours of the Manor and Olivet to visitors.\n\n \n\nFor more information\, please contact Pam Myers\, Marketing Director at Friendship Manor (309) 786-9667.
X-ALT-DESC;FMTTYPE=text/html:<br />\n<span style="font-size:14px\;"><span style="font-family:arial\;">Friendship Manor and Olivet Baptist Church will host a ribbon cutting ceremony on Thursday\, June 7 at 11am to celebrate the completion of their beautification project located at the corner of 11th Street and 21st Avenue in Rock Island. The community is invited to attend the event\, which includes refreshments\, entertainment\, and tours from 11am &ndash\; 2pm.<br />\nFriendship Manor is located at 1209 21<sup>st</sup> Ave. Rock Island\, IL 61201<br />\n&nbsp\;<br />\n&nbsp\;<br />\n<strong>About the Project: </strong><br />\nA wonderful project has come to fruition\, thanks to the collaboration and kinship between Olivet Baptist Church and Friendship Manor. On Thursday\, June 7<sup>th</sup> there will be a ribbon cutting by the QC Chamber of Commerce\, along with a block party on the corner of 11<sup>th</sup> Street and 21<sup>st</sup> Avenue. The event is for neighbors and friends to celebrate the completion of the West Entrance Beautification and Urban Renewal Project named Salvation Park.<br />\n&nbsp\;<br />\nFor the last several years\, it had become apparent that an improvement was needed to the entrance of Friendship Manor and Olivet Baptist Church along 11<sup>th</sup> Street at 21<sup>st</sup> Avenue. Like many urban highway routes\, the scenery wasn&rsquo\;t always welcoming. However\, thanks to several neighborhood partners\, generous donors\, the City of Rock Island\, and Friendship Manor founders (The King&rsquo\;s Daughters and Sons)\, Salvation Park started taking place.<br />\n&nbsp\;<br />\nThe components of the West Entrance Beautification and Urban Renewal Project included a new parking lot\, a welcome way to the &ldquo\;Friendship Neighborhood&rdquo\; on the SE corner of 11<sup>th</sup> Street and 21<sup>st</sup> Avenue\, a complementing welcome on the NE corner\, removal of an unattractive building in the 1100 block of 21<sup>st</sup> Avenue\, and removal of the Salvation Army building.<br />\n&nbsp\;<br />\nIn early 2017\, the parking lot was completed and is shared between Friendship Manor and Olivet Baptist Church. When the Salvation Army property became available\, the Manor&rsquo\;s vision for an entire city block took shape. Manor management met with Salvation Army personnel and thanks to a generous gift by an anonymous donor\, the property was purchased in April of 2017.<br />\n&nbsp\;<br />\nThe Manor already had artistic renderings of their vision for the SE corner of 11<sup>th</sup> &amp\; 21<sup>st</sup>.&nbsp\; That piece of WEB &amp\; URP had three phases\, but the Salvation Army piece was really a &ldquo\;leap frog&rdquo\; over two city owned parcels. Ted Pappas\, President and CEO of Friendship Manor states\, &ldquo\;There was no point in obtaining the Salvation Army property unless we could also own and control the corner pieces\, which enabled the welcome signage and a contiguous development. Manor management met with the City of Rock Island and asked for the two needed parcels\, and they generously agreed!&rdquo\;<br />\n&nbsp\;<br />\nWith assets\, generous donations and help from the City of Rock Island\, &ldquo\;Friendship Neighborhood&rdquo\; has a new welcome way with Salvation Park\, complete with monument sign\, plants and flowers. At the celebration with the QC Chamber of Commerce ribbon cutting and neighborhood block party on June 7<sup>th</sup> from 11 a.m. to 2 p.m.\, Friendship Manor and Olivet Baptist Church will be providing refreshments\, entertainment and tours of the Manor and Olivet to visitors.<br />\n&nbsp\;<br />\nFor more information\, please contact Pam Myers\, Marketing Director at Friendship Manor (309) 786-9667.</span></span>
LOCATION:Corner of 11th Street and 21st Avenue Rock Island\, IL 61201 Friendship Manor is located at 1209 21st Ave. Rock Island\, IL 61201
UID:e.2843.13268
SEQUENCE:3
DTSTAMP:20260423T092832Z
URL:https://member.quadcitieschamber.com/events/details/ribbon-cutting-and-block-party-salvation-park-friendship-manor-s-west-entrance-beautification-and-urban-renewal-project-13268
END:VEVENT

END:VCALENDAR
