BEGIN:VCALENDAR
VERSION:2.0
PRODID:-//ChamberMaster//Event Calendar 2.0//EN
METHOD:PUBLISH
X-PUBLISHED-TTL:P3D
REFRESH-INTERVAL:P3D
CALSCALE:GREGORIAN
BEGIN:VEVENT
DTSTART:20111104T133000Z
DTEND:20111104T140000Z
X-MICROSOFT-CDO-ALLDAYEVENT:FALSE
SUMMARY:Ribbon Cutting and Grand Opening - Stuff\, Etc
DESCRIPTION:Stuff Etc is celebrating their grand opening on Friday\, November 4th at 8:45am.   This is a 23\,000 square foot quality department consignment store.  They are located in the same area as Big Lots – as you head up Brady\, on the left side (if you get to Kimberly Rd.\, you’ve gone too far)
X-ALT-DESC;FMTTYPE=text/html:<DIV><P style="MARGIN: 0in 0in 0pt" class=MsoNormal><FONT face=Calibri>Stuff Etc is celebrating their grand opening on Friday\, November 4<SUP>th</SUP> at <B style="mso-bidi-font-weight: normal"><SPAN style="FONT-SIZE: 16pt">8:45am.<SPAN style="mso-spacerun: yes">&nbsp\; </SPAN><?xml:namespace prefix = o ns = "urn:schemas-microsoft-com:office:office" /><o:p></o:p></SPAN></B></FONT></P><P style="MARGIN: 0in 0in 0pt" class=MsoNormal><B style="mso-bidi-font-weight: normal"><SPAN style="FONT-SIZE: 16pt"><o:p><FONT face=Calibri>&nbsp\;</FONT></o:p></SPAN></B></P><P style="MARGIN: 0in 0in 0pt" class=MsoNormal><FONT face=Calibri>This is a 23\,000 square foot quality department consignment store.<SPAN style="mso-spacerun: yes">&nbsp\; </SPAN>They are located in the same area as Big Lots – as you head up Brady\, on the left side (if you get to Kimberly Rd.\, you’ve gone too far)</FONT></P><P style="MARGIN: 0in 0in 0pt" class=MsoNormal><o:p><FONT face=Calibri>&nbsp\;</FONT></o:p></P></DIV>
LOCATION:Stuff Etc Davenport3568 Brady St. Davenport\, IA 52806
UID:e.2843.291
SEQUENCE:3
DTSTAMP:20260422T111341Z
URL:https://member.quadcitieschamber.com/events/details/ribbon-cutting-and-grand-opening-stuff-etc-11-04-2011-291
END:VEVENT

END:VCALENDAR
