BEGIN:VCALENDAR
VERSION:2.0
PRODID:-//ChamberMaster//Event Calendar 2.0//EN
METHOD:PUBLISH
X-PUBLISHED-TTL:P3D
REFRESH-INTERVAL:P3D
CALSCALE:GREGORIAN
BEGIN:VEVENT
DTSTART:20120124T180000Z
DTEND:20120124T183000Z
X-MICROSOFT-CDO-ALLDAYEVENT:FALSE
SUMMARY:Ribbon Cutting and Grand Re-Opening
DESCRIPTION:The Courtyard by Marriott in Bettendorf will be celebrating a “grand re-opening” after a big renovation.  The ribbon cutting will take place on Tuesday\, January 24th\, 2012 at noon. Golden Valley Drive is located just off Utica Ridge Rd and the hotel is close to The Lodge Hotel & Conference Center.
X-ALT-DESC;FMTTYPE=text/html:<DIV><FONT face=Calibri><P style="MARGIN: 0in 0in 0pt" class=MsoNormal>The Courtyard by Marriott in Bettendorf will be celebrating a “grand re-opening” after a big renovation.<SPAN style="mso-spacerun: yes">&nbsp\; </SPAN>The ribbon cutting will take place on Tuesday\, January 24<SUP>th</SUP>\, 2012 at noon.</P><P style="MARGIN: 0in 0in 0pt" class=MsoNormal><?xml:namespace prefix = o ns = "urn:schemas-microsoft-com:office:office" /><o:p>&nbsp\;</o:p></P><P style="MARGIN: 0in 0in 0pt" class=MsoNormal>Golden Valley Drive is located just off Utica Ridge Rd and the hotel is close to The Lodge Hotel &amp\; Conference Center.</P><P style="MARGIN: 0in 0in 0pt" class=MsoNormal>&nbsp\;</P></FONT></DIV>
LOCATION:Courtyard By Marriott\, Bettendorf895 Golden Valley Drive Bettendorf\, IA 52722
UID:e.2843.324
SEQUENCE:3
DTSTAMP:20260422T093530Z
URL:https://member.quadcitieschamber.com/events/details/ribbon-cutting-and-grand-re-opening-01-24-2012-324
END:VEVENT

END:VCALENDAR
