BEGIN:VCALENDAR
VERSION:2.0
PRODID:-//ChamberMaster//Event Calendar 2.0//EN
METHOD:PUBLISH
X-PUBLISHED-TTL:P3D
REFRESH-INTERVAL:P3D
CALSCALE:GREGORIAN
BEGIN:VEVENT
DTSTART:20180626T210000Z
DTEND:20180626T223000Z
X-MICROSOFT-CDO-ALLDAYEVENT:FALSE
SUMMARY:Ribbon Cutting and Open House - Another Child Foundation
DESCRIPTION:Another Child Foundation\,1804 7th Ave. Rock Island\, IL 61201 (World of Life Church)\, will host a ribbon cutting ceremony on Tuesday\, June 26 at 4pm in celebration of their new Quad Cities location!\n\nAn open house will follow until 5:30pm.\n\n \n\nPlease consider bringing a pair of adult or children's tennis shoes to donate to Project Respond. Tennis shoes must be new due to customs restrictions.\n\nProject Respond is a mission trip\, organized by Another Child Foundation\, to deliver humanitarian aid items to Romania. Click here to learn more.
X-ALT-DESC;FMTTYPE=text/html:<br />\n<span style="font-size:14px\;"><span style="font-family:arial\;">Another Child Foundation\,1804 7th Ave. Rock Island\, IL 61201 (World of Life Church)\, will host a ribbon cutting ceremony on Tuesday\, June 26 at 4pm in celebration of their new Quad Cities location!<br />\nAn open house will follow until 5:30pm.<br />\n&nbsp\;<br />\n<strong>Please consider bringing a pair of adult or children&rsquo\;s tennis shoes to donate to Project Respond. Tennis shoes must be new due to customs restrictions.</strong><br />\nProject Respond is a mission trip\, organized by Another Child Foundation\, to deliver humanitarian aid items to Romania. <a href="https://anotherchildfoundation.org/get-involved/project-respond/">Click here</a> to learn more.</span></span>
LOCATION:Another Child Foundation (located inside of World of Life Church) 1804 7th Ave. Rock Island\, IL 61201
UID:e.2843.13315
SEQUENCE:3
DTSTAMP:20260423T092331Z
URL:https://member.quadcitieschamber.com/events/details/ribbon-cutting-and-open-house-another-child-foundation-13315
END:VEVENT

END:VCALENDAR
