BEGIN:VCALENDAR
VERSION:2.0
PRODID:-//ChamberMaster//Event Calendar 2.0//EN
METHOD:PUBLISH
X-PUBLISHED-TTL:P3D
REFRESH-INTERVAL:P3D
CALSCALE:GREGORIAN
BEGIN:VEVENT
DTSTART:20180503T210000Z
DTEND:20180503T230000Z
X-MICROSOFT-CDO-ALLDAYEVENT:FALSE
SUMMARY:Ribbon Cutting and Open House - Athletico Physical Therapy
DESCRIPTION:Athletico Physical Therapy\, 4730 Elmore Ave. #1\, Davenport\, IA 52807 will host a ribbon cutting ceremony at 4:00pm on May 3\, 2018 to celebrate the grand opening of their 4th Quad Cities location! An open house\, including refreshments and raffle prizes\, will follow until 6pm.                       \n\n \n\nAthletico Physical Therapy is proud to be a part of the Davenport community. Scott Howard\, PT\, DPT\, CMPT\, is the facility manager and primary physical therapist at Athletico Davenport. Scott grew up in Princeton\, IL\, about an hour East of Davenport\, and recently moved to the Quad Cities from Chicago to be closer to his family and into a community that suites outdoor interests and active lifestyle. He graduated from physical therapy school with his doctorate from Midwestern University in 2012 and has been practicing with Athletico ever since.\n\n \n\nServices available at Athletico Davenport include: \n\n \n\n	Physical therapy   Personalized treatment plans\, developed in partnership with patients\, provide rehabilitation for different issues including back and neck pain\, sport\, work or auto injuries\, muscle strains and sprains or joint replacement therapy to name a few.\n	Complimentary injury screenings   A 30-minute free assessment performed by a licensed clinician who reviews an injury or problem to your musculoskeletal complaint\, as well as assesses movement impairments and discusses how this is affecting activities of daily living. If needed\, we can begin treatment immediately\, no referral necessary. Please note\, restrictions apply.\n	Workers' compensation   From the time of injury to case closure\, our rehabilitation services work for our patients in a cost-effective and timely manner. This service educates employees on safe work habits and injury prevention. Athletico also customizes treatments to meet the needs of each case and offers work conditioning evaluations and workers' compensation services to provide the stabilizing\, strengthening\, and conditioning necessary for work simulation and return-to-work.\n	Athletic rehabilitation   Whether you're a recreational jogger or a competitive athlete\, our therapists are equipped to analyze and correct technique deviations\, perform post-operative rehab\, and treat injuries to help you return to pre-injury performance levels.\n\n \n\nAdditionally\, Athletico Davenport:\n\n\n	Accepts all major insurance plans so you don't need to worry about your visits not being covered.\n	Offers convenient hours\, including early mornings\, late evenings and Saturdays.\n	Schedules each initial evaluation within 24-48 hours of the patient's request.\n	Provides ongoing patient education on diagnosis\, treatment plans and prescribed home-exercise programs.\n	Practices clear\, consistent communication between therapist\, physician and patient regarding progress.
X-ALT-DESC;FMTTYPE=text/html:<span style="font-family:arial\,sans-serif\;">Athletico Physical Therapy\, 4730 Elmore Ave. #1\, Davenport\, IA 52807 will host a ribbon cutting ceremony at 4:00pm on May 3\, 2018 to celebrate the grand opening of their 4<sup>th</sup> Quad Cities location! An open house\, including refreshments and raffle prizes\, will follow until 6pm. &nbsp\;&nbsp\;&nbsp\;&nbsp\;&nbsp\;&nbsp\;&nbsp\;&nbsp\;&nbsp\;&nbsp\;&nbsp\;&nbsp\;&nbsp\;&nbsp\;&nbsp\;&nbsp\;&nbsp\;&nbsp\;&nbsp\;&nbsp\;&nbsp\;&nbsp\;</span><br />\n&nbsp\;<br />\n<span style="font-family:arial\,sans-serif\;">Athletico Physical Therapy is proud to be a part of the Davenport community. Scott Howard\, PT\, DPT\, CMPT\, is the facility manager and primary physical therapist at Athletico Davenport. Scott grew up in Princeton\, IL\, about an hour East of Davenport\, and recently moved to the Quad Cities from Chicago to be closer to his family and into a community that suites outdoor interests and active lifestyle. He graduated from physical therapy school with his doctorate from Midwestern University in 2012 and has been practicing with Athletico ever since.</span><br />\n&nbsp\;<br />\n<span style="font-family:arial\,sans-serif\;">Services available at Athletico Davenport include: </span><br />\n&nbsp\;\n<ul>\n	<li><span style="font-family:arial\,sans-serif\;"><a href="http://www.athletico.com/services/physical-therapy/"><strong>Physical therapy</strong></a></span> &ndash\; Personalized treatment plans\, developed in partnership with patients\, provide rehabilitation for different issues including back and neck pain\, sport\, work or auto injuries\, muscle strains and sprains or joint replacement therapy to name a few.</li>\n	<li><span style="font-family:arial\,sans-serif\;"><a href="http://www.athletico.com/services/complimentary-injury-screens/"><strong>Complimentary injury screenings</strong></a></span> &ndash\; A 30-minute free assessment performed by a licensed clinician who reviews an injury or problem to your musculoskeletal complaint\, as well as assesses movement impairments and discusses how this is affecting activities of daily living. If needed\, we can begin treatment immediately\, no referral necessary. Please note\, restrictions apply.</li>\n	<li><span style="font-family:arial\,sans-serif\;"><a href="http://www.athletico.com/services/work-comp/"><strong>Workers&rsquo\; compensation</strong></a></span> <span style="font-family:arial\,sans-serif\;">&ndash\; </span><span style="font-family:arial\,sans-serif\;">From the time of injury to case closure\, our rehabilitation services work for our patients in a cost-effective and timely manner. This service educates employees on safe work habits and injury prevention. Athletico also customizes treatments to meet the needs of each case and offers work conditioning evaluations and workers&#39\; compensation services to provide the stabilizing\, strengthening\, and conditioning necessary for work simulation and return-to-work.</span></li>\n	<li><strong><span style="font-family:arial\,sans-serif\;">Athletic</span></strong><span style="font-family:arial\,sans-serif\;"><a href="http://www.athletico.com/services/specialized-services/endurance-outreach/"><strong> rehabilitation</strong></a></span><span style="font-family:arial\,sans-serif\;"> &ndash\; Whether you&rsquo\;re a recreational jogger or a competitive athlete\, our therapists are equipped to analyze and correct technique deviations\, perform post-operative rehab\, and treat injuries to help you return to pre-injury performance levels.</span></li>\n</ul>\n&nbsp\;<br />\n<span style="font-family:arial\,sans-serif\;">Additionally\, Athletico Davenport:</span>\n\n<ul>\n	<li><span style="font-family:arial\,sans-serif\;">Accepts all major insurance plans so you don&rsquo\;t need to worry about your visits not being covered.</span></li>\n	<li><span style="font-family:arial\,sans-serif\;">Offers convenient hours\, including early mornings\, late evenings and Saturdays.</span></li>\n	<li><span style="font-family:arial\,sans-serif\;">Schedules each initial evaluation within 24-48 hours of the patient&rsquo\;s request.</span></li>\n	<li><span style="font-family:arial\,sans-serif\;">Provides ongoing patient education on diagnosis\, treatment plans and prescribed home-exercise programs.</span></li>\n	<li><span style="font-family:arial\,sans-serif\;">Practices clear\, consistent communication between therapist\, physician and patient regarding progress.</span></li>\n</ul>\n&nbsp\;<br />\n&nbsp\;
LOCATION:Athletico Physical Therapy 4730 Elmore Ave. #1 Davenport\, IA 52807
UID:e.2843.13173
SEQUENCE:3
DTSTAMP:20260423T105157Z
URL:https://member.quadcitieschamber.com/events/details/ribbon-cutting-and-open-house-athletico-physical-therapy-13173
END:VEVENT

END:VCALENDAR
