BEGIN:VCALENDAR
VERSION:2.0
PRODID:-//ChamberMaster//Event Calendar 2.0//EN
METHOD:PUBLISH
X-PUBLISHED-TTL:P3D
REFRESH-INTERVAL:P3D
CALSCALE:GREGORIAN
BEGIN:VEVENT
DTSTART:20171004T140000Z
DTEND:20171004T170000Z
X-MICROSOFT-CDO-ALLDAYEVENT:FALSE
SUMMARY:Ribbon Cutting and Open House - Audiology Consultants\, P.C.
DESCRIPTION:Audiology Consultants P.C.\, 600 Valley View Dr.\, Lower Level Moline\, IL 61265\, will host a ribbon cutting ceremony on Wednesday\, October 4 at 9am to celebrate their move to a new location. An open house will follow until 12pm.
X-ALT-DESC;FMTTYPE=text/html:<span style="font-size: 14px\;"><span style="font-family: arial\;">Audiology Consultants P.C.\, 600 Valley View Dr.\, Lower Level Moline\, IL 61265\, will host a ribbon cutting ceremony on Wednesday\, October 4 at 9am to celebrate their move to a new location. An open house will follow until 12pm.&nbsp\;</span></span>
LOCATION:Audiology Consultants P.C.\, 600 Valley View Dr.\, Lower Level Moline\, IL 61265
UID:e.2843.8559
SEQUENCE:3
DTSTAMP:20260423T221807Z
URL:https://member.quadcitieschamber.com/events/details/ribbon-cutting-and-open-house-audiology-consultants-p-c-8559
END:VEVENT

END:VCALENDAR
