BEGIN:VCALENDAR
VERSION:2.0
PRODID:-//ChamberMaster//Event Calendar 2.0//EN
METHOD:PUBLISH
X-PUBLISHED-TTL:P3D
REFRESH-INTERVAL:P3D
CALSCALE:GREGORIAN
BEGIN:VEVENT
DTSTART:20180510T220000Z
DTEND:20180511T010000Z
X-MICROSOFT-CDO-ALLDAYEVENT:FALSE
SUMMARY:Ribbon Cutting and Open House - Bettendorf Chiropractic Wellness Center
DESCRIPTION:Bettendorf Chiropractic Wellness Center\, 4893 Utica Ridge Rd. #101 Davenport\, IA 52807\, will host a ribbon cutting ceremony on Thursday\, May 10 at 5pm in celebration of the grand opening of their new location! An open house including family friendly games\, face painting\, drinks & appetizers will follow until 8pm!
X-ALT-DESC;FMTTYPE=text/html:<br />\n<span style="font-size:14px\;"><span style="font-family:arial\;">Bettendorf Chiropractic Wellness Center\, 4893 Utica Ridge Rd. #101 Davenport\, IA 52807\, will host a ribbon cutting ceremony on Thursday\, May 10 at 5pm in celebration of the grand opening of their new location! An open house including <span style="background:white\;">family friendly games\, face painting\, drinks &amp\; appetizers will follow until 8pm!</span></span></span>
LOCATION:Bettendorf Chiropractic Wellness Center 4893 Utica Ridge Rd. #101 Davenport\, IA 52807
UID:e.2843.13199
SEQUENCE:3
DTSTAMP:20260423T111301Z
URL:https://member.quadcitieschamber.com/events/details/ribbon-cutting-and-open-house-bettendorf-chiropractic-wellness-center-13199
END:VEVENT

END:VCALENDAR
