BEGIN:VCALENDAR
VERSION:2.0
PRODID:-//ChamberMaster//Event Calendar 2.0//EN
METHOD:PUBLISH
X-PUBLISHED-TTL:P3D
REFRESH-INTERVAL:P3D
CALSCALE:GREGORIAN
BEGIN:VEVENT
DTSTART:20171116T220000Z
DTEND:20171117T000000Z
X-MICROSOFT-CDO-ALLDAYEVENT:FALSE
SUMMARY:Ribbon Cutting and Open House - CBI Bank & Trust
DESCRIPTION:CBI Bank & Trust\, 101 W. 2nd St. Suite 100 Davenport\, IA 52801\, will host a ribbon cutting ceremony on Friday\, November 16 at 4:00pm to celebrate the one year anniversary of their grand re-opening as CBI Bank & Trust.\n\nAn open house\, including hors d'oeuvres and beverages\, will take place 4pm   6pm.
X-ALT-DESC;FMTTYPE=text/html:<span style="font-family:arial\;"><span style="font-size:14px\;">CBI Bank &amp\; Trust\, 101 W. 2nd St. Suite 100 Davenport\, IA 52801\, will host a ribbon cutting ceremony on Friday\, November 16 at 4:00pm to celebrate the one year anniversary of their grand re-opening as CBI Bank &amp\; Trust.<br />\nAn open house\, including hors d&#39\;oeuvres and beverages\, will take place 4pm &ndash\; 6pm.&nbsp\;</span></span>
LOCATION:CBI Bank & Trust 101 W. 2nd St. Suite 100 Davenport\, IA 52801
UID:e.2843.8815
SEQUENCE:3
DTSTAMP:20260423T195324Z
URL:https://member.quadcitieschamber.com/events/details/ribbon-cutting-and-open-house-cbi-bank-trust-8815
END:VEVENT

END:VCALENDAR
