BEGIN:VCALENDAR
VERSION:2.0
PRODID:-//ChamberMaster//Event Calendar 2.0//EN
METHOD:PUBLISH
X-PUBLISHED-TTL:P3D
REFRESH-INTERVAL:P3D
CALSCALE:GREGORIAN
BEGIN:VEVENT
DTSTART:20171115T210000Z
DTEND:20171116T020000Z
X-MICROSOFT-CDO-ALLDAYEVENT:FALSE
SUMMARY:Ribbon Cutting and Open House - Charm Boutique
DESCRIPTION:Charm Boutique\, 2509 53rd Ave. Bettendorf\, IA 52722\, will host a ribbon cutting ceremony on Wednesday\, November 15 at 3:00pm to celebrate their grand re-opening under new ownership. New owner\, AnnMarie Mendel\, has added new fashion lines as well as other fun\, new changes! The ribbon cutting will be followed by appetizers\, drinks\, music and a fun evening of shopping until 8pm.\n\n\n\n**Located off of 53rd next to Olive Tree Caf  and Meat Heads Meat Market.
X-ALT-DESC;FMTTYPE=text/html:<span style="font-size:14px\;"><span style="font-family:arial\;">Charm Boutique\, 2509 53rd Ave. Bettendorf\, IA 52722\, will host a ribbon cutting ceremony on Wednesday\, November 15 at 3:00pm to celebrate their grand re-opening under new ownership. <span style="background-image:initial\;background-position:initial\;background-size:initial\;background-repeat:initial\;background-attachment:initial\;background-origin:initial\;background-clip:initial\;">New owner\, AnnMarie Mendel\, has added new fashion lines as well as other fun\, new changes! </span>The r<span style="background-image:initial\;background-position:initial\;background-size:initial\;background-repeat:initial\;background-attachment:initial\;background-origin:initial\;background-clip:initial\;">ibbon cutting will be followed by appetizers\, drinks\, music and a fun evening of shopping until 8pm.</span><br />\n<br />\n**Located off of 53<sup>rd</sup> next to Olive Tree Caf&eacute\; and Meat Heads Meat Market.&nbsp\;</span></span>
LOCATION:Charm Boutique 2509 53rd Ave. Bettendorf\, IA 52722
UID:e.2843.8646
SEQUENCE:3
DTSTAMP:20260423T195400Z
URL:https://member.quadcitieschamber.com/events/details/ribbon-cutting-and-open-house-charm-boutique-8646
END:VEVENT

END:VCALENDAR
