BEGIN:VCALENDAR
VERSION:2.0
PRODID:-//ChamberMaster//Event Calendar 2.0//EN
METHOD:PUBLISH
X-PUBLISHED-TTL:P3D
REFRESH-INTERVAL:P3D
CALSCALE:GREGORIAN
BEGIN:VEVENT
DTSTART:20180830T210000Z
DTEND:20180830T230000Z
X-MICROSOFT-CDO-ALLDAYEVENT:FALSE
SUMMARY:Ribbon Cutting and Open House - Country Style Ice Cream
DESCRIPTION:Country Style Ice Cream will host a ribbon cutting ceremony on Thursday\, August 30 at 4pm to celebrate the grand opening of their new location at 5264 Utica Ridge Rd. Davenport\, IA 52807.\n\n \n\nAn open house will follow until 6pm.
X-ALT-DESC;FMTTYPE=text/html:<br />\n<span style="font-family:arial\,sans-serif\;">Country Style Ice Cream will host a ribbon cutting ceremony on Thursday\, August 30 at 4pm to celebrate the grand opening of their new location at 5264 Utica Ridge Rd. Davenport\, IA 52807.</span><br />\n&nbsp\;<br />\n<span style="font-family:arial\,sans-serif\;">An open house will follow until 6pm.</span>
LOCATION:5264 Utica Ridge Rd. Davenport\, IA 52807
UID:e.2843.13399
SEQUENCE:3
DTSTAMP:20260423T062442Z
URL:https://member.quadcitieschamber.com/events/details/ribbon-cutting-and-open-house-country-style-ice-cream-13399
END:VEVENT

END:VCALENDAR
