BEGIN:VCALENDAR
VERSION:2.0
PRODID:-//ChamberMaster//Event Calendar 2.0//EN
METHOD:PUBLISH
X-PUBLISHED-TTL:P3D
REFRESH-INTERVAL:P3D
CALSCALE:GREGORIAN
BEGIN:VEVENT
DTSTART:20171102T170000Z
DTEND:20171102T220000Z
X-MICROSOFT-CDO-ALLDAYEVENT:FALSE
SUMMARY:Ribbon Cutting and Open House - Craftsmen Utility Trailer
DESCRIPTION:Craftsmen Utility Trailer\, 2607 Research Parkway Davenport\, IA 52806\, will host a ribbon cutting ceremony on Thursday\, November 2 at 12pm to celebrate their expansion and move to a new location. An open house will follow until 5pm.
X-ALT-DESC;FMTTYPE=text/html:<span style="font-size:14px\;"><span style="font-family:arial\;">Craftsmen Utility Trailer\, 2607 Research Parkway Davenport\, IA 52806\, will host a ribbon cutting ceremony on Thursday\, November 2 at 12pm to celebrate their expansion and move to a new location. An open house will follow until 5pm.</span></span>
LOCATION:Craftsmen Utility Trailer 2607 Research Parkway Davenport\, IA 52806
UID:e.2843.8606
SEQUENCE:3
DTSTAMP:20260423T195359Z
URL:https://member.quadcitieschamber.com/events/details/ribbon-cutting-and-open-house-craftsmen-utility-trailer-8606
END:VEVENT

END:VCALENDAR
