BEGIN:VCALENDAR
VERSION:2.0
PRODID:-//ChamberMaster//Event Calendar 2.0//EN
METHOD:PUBLISH
X-PUBLISHED-TTL:P3D
REFRESH-INTERVAL:P3D
CALSCALE:GREGORIAN
BEGIN:VEVENT
DTSTART:20170728T200000Z
DTEND:20170729T000000Z
X-MICROSOFT-CDO-ALLDAYEVENT:FALSE
SUMMARY:Ribbon Cutting and Open House - Dahl Ford
DESCRIPTION:Dahl Ford\, 1310 E. Kimberly Rd. Davenport\, IA 52807\, will host a ribbon cutting ceremony on Friday\, July 28 at 4:00pm to celebrate their recent renovations and grand re-opening. \n\n \n\nAn open house will take place 3pm   7pm. Guests will enjoy hosted food stations\, drinks\, music\, and various "120" themed prizes. Additionally\, the first one hundred and twenty guests to arrive will receive a VIP gift bag!
X-ALT-DESC;FMTTYPE=text/html:<span style="font-family:arial\,sans-serif\;"><span style="font-size:12.0pt\;">Dahl Ford\, 1310 E. Kimberly Rd. Davenport\, IA 52807\, will host a ribbon cutting ceremony on Friday\, July 28 at 4:00pm to celebrate their recent renovations and grand re-opening. </span></span><br />\n&nbsp\;<br />\n<strong><span style="font-family:arial\,sans-serif\;"><span style="font-size:12.0pt\;">An open house will take place 3pm &ndash\; 7pm.</span></span></strong><span style="font-family:arial\,sans-serif\;"><span style="font-size:12.0pt\;"> <span style="background-image:initial\;background-position:initial\;background-size:initial\;background-repeat:initial\;background-attachment:initial\;background-origin:initial\;background-clip:initial\;">Guests will enjoy hosted food stations\, drinks\, music\, and various &ldquo\;120&rdquo\; themed prizes. Additionally\, the first one hundred and twenty guests to arrive will receive a VIP gift bag!</span></span></span>
LOCATION:Dahl Ford 1310 E. Kimberly Rd. Davenport\, IA 52807
UID:e.2843.6336
SEQUENCE:3
DTSTAMP:20260424T003238Z
URL:https://member.quadcitieschamber.com/events/details/ribbon-cutting-and-open-house-dahl-ford-6336
END:VEVENT

END:VCALENDAR
