BEGIN:VCALENDAR
VERSION:2.0
PRODID:-//ChamberMaster//Event Calendar 2.0//EN
METHOD:PUBLISH
X-PUBLISHED-TTL:P3D
REFRESH-INTERVAL:P3D
CALSCALE:GREGORIAN
BEGIN:VEVENT
DTSTART:20180315T210000Z
DTEND:20180316T000000Z
X-MICROSOFT-CDO-ALLDAYEVENT:FALSE
SUMMARY:Ribbon Cutting and Open House - Element Hotel\, Moline
DESCRIPTION:Element Hotel - Moline\, 316 12th St. Moline\, IL 61265\, will host a ribbon cutting ceremony on Thursday\, March 15 at 4pm to celebrate their grand opening! An open house will follow until 7pm.\n\n \n\nAbout Element Hotel   \n\nRepurposed from a Historic Moline landmark building\, bright and open this awe-inspiring hotel boasts original features such as exposed walls and columns. Offering 96 guestrooms and suites guests will receive a healthy complimentary breakfast and a mid-week evening social. Guests will be able to recharge in the open-flow lobby with fast & free WiFi\, or relax in a quiet nook for reading or working. The property features a fitness center and indoor pool. Pet friendly and proud to be green and eco-friendly.\n\nClick here to visit their Website.
X-ALT-DESC;FMTTYPE=text/html:<span style="font-size:14px\;"><span style="font-family:arial\;">Element Hotel - Moline\, 316 12th St. Moline\, IL 61265\, will host a ribbon cutting ceremony on Thursday\, March 15 at 4pm to celebrate their grand opening! An open house will follow until 7pm.<br />\n&nbsp\;<br />\n<strong>About Element Hotel &ndash\; </strong><br />\nRepurposed from a Historic Moline landmark building\, bright and open this awe-inspiring hotel boasts original features such as exposed walls and columns. Offering 96 guestrooms and suites guests will receive a healthy complimentary breakfast and a mid-week evening social. Guests will be able to recharge in the open-flow lobby with fast &amp\; free WiFi\, or relax in a quiet nook for reading or working. The property features a fitness center and indoor pool. Pet friendly and proud to be green and eco-friendly.<br />\n<a href="http://www.starwoodhotels.com/element/property/overview/index.html?propertyID=4162&amp\;SWAQ=958P">Click here</a> to visit their Website.</span></span>
LOCATION:Element Hotel - Moline 316 12th St. Moline\, IL 61265\,
UID:e.2843.10043
SEQUENCE:3
DTSTAMP:20260423T142050Z
URL:https://member.quadcitieschamber.com/events/details/ribbon-cutting-and-open-house-element-hotel-moline-10043
END:VEVENT

END:VCALENDAR
