BEGIN:VCALENDAR
VERSION:2.0
PRODID:-//ChamberMaster//Event Calendar 2.0//EN
METHOD:PUBLISH
X-PUBLISHED-TTL:P3D
REFRESH-INTERVAL:P3D
CALSCALE:GREGORIAN
BEGIN:VEVENT
DTSTART:20180906T210000Z
DTEND:20180906T230000Z
X-MICROSOFT-CDO-ALLDAYEVENT:FALSE
SUMMARY:Ribbon Cutting and Open House - EON Reality
DESCRIPTION:EON Reality will host a ribbon cutting ceremony and open house on Thursday\, September 6 at 4:30pm to celebrate their grand opening.\n\nAn Open house will take place 4pm - 6pm. \n\n \n\nCome and see for yourself the fruits of a bold innovator in the field of virtual and augmented reality\, and the way they are harnessing the bleeding-edge of the VR/AR revolution already underway.  On display will be a diverse\, thrilling gallery of state-of-the-art hardware and software\, including full 3-D immersion technologies\, portable VR/AR solutions\, and Eon's finest products. You will also get a chance to talk to Eon employees about the history\, accomplishments\, and forward-thinking vision of their company\, as well as the endless marvels their industry promises to make possible.\n\n \n\nThe VR/AR wave is set to transform and remake business\, education and everyday life--don't miss this chance to take a glimpse into the future\, being built in the present right here in the Quad Cities! \n\n \n\n*Located on the 2nd floor of Scott Community College Urban Campus in downtown Davenport
X-ALT-DESC;FMTTYPE=text/html:<br />\n<span style="font-size:14px\;"><span style="font-family:arial\;">EON Reality will host a ribbon cutting ceremony and open house on Thursday\, September 6 at 4:30pm to celebrate their grand opening.<br />\nAn Open house will take place 4pm - 6pm.&nbsp\;<br />\n&nbsp\;<br />\n<span style="color:black\;">Come and see for yourself the fruits of a bold innovator in the field of virtual and augmented reality\, and the way they are harnessing the bleeding-edge of the VR/AR revolution already underway.&nbsp\; On display will be a diverse\, thrilling gallery of state-of-the-art hardware and software\, including full 3-D immersion technologies\, portable VR/AR solutions\, and Eon&rsquo\;s finest products. You will also get a chance to talk to Eon employees about the history\, accomplishments\, and forward-thinking vision of their company\, as well as the endless marvels their industry promises to make possible.</span><br />\n&nbsp\;<br />\n<span style="color:black\;">The VR/AR wave is set to transform and remake business\, education and everyday life--don&rsquo\;t miss this chance to take a glimpse into the future\, being built in the present right here in the Quad Cities! </span><br />\n&nbsp\;<br />\n<span style="color:red\;">*Located on the 2<sup>nd</sup> floor of </span><span style="background:white\;"><span style="color:red\;">Scott Community College Urban Campus</span></span><span style="color:red\;"> in downtown Davenport </span></span></span><br />\n&nbsp\;
LOCATION:Scott Community College Urban Campus - 2nd Floor 101 W. 3rd St. Davenport\, IA 52801
UID:e.2843.13415
SEQUENCE:3
DTSTAMP:20260423T044000Z
URL:https://member.quadcitieschamber.com/events/details/ribbon-cutting-and-open-house-eon-reality-13415
END:VEVENT

END:VCALENDAR
