BEGIN:VCALENDAR
VERSION:2.0
PRODID:-//ChamberMaster//Event Calendar 2.0//EN
METHOD:PUBLISH
X-PUBLISHED-TTL:P3D
REFRESH-INTERVAL:P3D
CALSCALE:GREGORIAN
BEGIN:VEVENT
DTSTART:20180809T210000Z
DTEND:20180810T000000Z
X-MICROSOFT-CDO-ALLDAYEVENT:FALSE
SUMMARY:Ribbon Cutting and Open House/Fiesta Celebration - Caliber Home Loans
DESCRIPTION:Caliber Home Loans will host a ribbon cutting ceremony on Thursday\, August 9 at 5pm to celebrate the grand opening of their new location at 1900 State St. Bettendorf\, IA 52722.\n\nAn open house/fiesta celebration will take place 4pm - 7pm.
X-ALT-DESC;FMTTYPE=text/html:<span style="font-family:arial\,sans-serif\;">Caliber Home Loans</span> <span style="font-family:arial\,sans-serif\;">will host a ribbon cutting ceremony on Thursday\, August 9 at 5pm to celebrate the grand opening of their new location at 1900 State St. Bettendorf\, IA 52722.</span><br />\n<span style="font-family:arial\,sans-serif\;">An open house/fiesta celebration will take place 4pm - 7pm.&nbsp\;&nbsp\;</span>
LOCATION:1900 State St. Bettendorf\, IA 52722.
UID:e.2843.13376
SEQUENCE:3
DTSTAMP:20260423T062401Z
URL:https://member.quadcitieschamber.com/events/details/ribbon-cutting-and-open-house-fiesta-celebration-caliber-home-loans-13376
END:VEVENT

END:VCALENDAR
